BEGIN:VCALENDAR
VERSION:2.0
PRODID:-//RCCG Restoration Church - ECPv6.15.20//NONSGML v1.0//EN
CALSCALE:GREGORIAN
METHOD:PUBLISH
X-WR-CALNAME:RCCG Restoration Church
X-ORIGINAL-URL:https://rccgrc.org
X-WR-CALDESC:Events for RCCG Restoration Church
REFRESH-INTERVAL;VALUE=DURATION:PT1H
X-Robots-Tag:noindex
X-PUBLISHED-TTL:PT1H
BEGIN:VTIMEZONE
TZID:UTC
BEGIN:STANDARD
TZOFFSETFROM:+0000
TZOFFSETTO:+0000
TZNAME:UTC
DTSTART:20250101T000000
END:STANDARD
END:VTIMEZONE
BEGIN:VEVENT
DTSTART;TZID=UTC:20261101T100000
DTEND;TZID=UTC:20261101T123000
DTSTAMP:20260420T074924
CREATED:20250318T002302Z
LAST-MODIFIED:20250719T231504Z
UID:10002427-1793527200-1793536200@rccgrc.org
SUMMARY:This is Home | We saving a seat just for YOU!
DESCRIPTION:
URL:https://rccgrc.org/event/this-is-home-we-saving-a-seat-just-for-you/2026-11-01/
LOCATION:RCCG\, RCCG Restoration Church 5600 Sunnyside Avenue\, Beltsville\, MD\, 20705\, United States
CATEGORIES:RCCG Event
ATTACH;FMTTYPE=image/jpeg:https://rccgrc.org/wp-content/uploads/2025/03/rc-seat.jpg
ORGANIZER;CN="Abby Daramola":MAILTO:info@rccgrc.org
END:VEVENT
BEGIN:VEVENT
DTSTART;TZID=UTC:20261108T100000
DTEND;TZID=UTC:20261108T123000
DTSTAMP:20260420T074924
CREATED:20250318T002302Z
LAST-MODIFIED:20250719T231504Z
UID:10002428-1794132000-1794141000@rccgrc.org
SUMMARY:This is Home | We saving a seat just for YOU!
DESCRIPTION:
URL:https://rccgrc.org/event/this-is-home-we-saving-a-seat-just-for-you/2026-11-08/
LOCATION:RCCG\, RCCG Restoration Church 5600 Sunnyside Avenue\, Beltsville\, MD\, 20705\, United States
CATEGORIES:RCCG Event
ATTACH;FMTTYPE=image/jpeg:https://rccgrc.org/wp-content/uploads/2025/03/rc-seat.jpg
ORGANIZER;CN="Abby Daramola":MAILTO:info@rccgrc.org
END:VEVENT
BEGIN:VEVENT
DTSTART;TZID=UTC:20261115T100000
DTEND;TZID=UTC:20261115T123000
DTSTAMP:20260420T074924
CREATED:20250318T002302Z
LAST-MODIFIED:20250719T231504Z
UID:10002429-1794736800-1794745800@rccgrc.org
SUMMARY:This is Home | We saving a seat just for YOU!
DESCRIPTION:
URL:https://rccgrc.org/event/this-is-home-we-saving-a-seat-just-for-you/2026-11-15/
LOCATION:RCCG\, RCCG Restoration Church 5600 Sunnyside Avenue\, Beltsville\, MD\, 20705\, United States
CATEGORIES:RCCG Event
ATTACH;FMTTYPE=image/jpeg:https://rccgrc.org/wp-content/uploads/2025/03/rc-seat.jpg
ORGANIZER;CN="Abby Daramola":MAILTO:info@rccgrc.org
END:VEVENT
BEGIN:VEVENT
DTSTART;TZID=UTC:20261122T100000
DTEND;TZID=UTC:20261122T123000
DTSTAMP:20260420T074924
CREATED:20250318T002302Z
LAST-MODIFIED:20250719T231504Z
UID:10002430-1795341600-1795350600@rccgrc.org
SUMMARY:This is Home | We saving a seat just for YOU!
DESCRIPTION:
URL:https://rccgrc.org/event/this-is-home-we-saving-a-seat-just-for-you/2026-11-22/
LOCATION:RCCG\, RCCG Restoration Church 5600 Sunnyside Avenue\, Beltsville\, MD\, 20705\, United States
CATEGORIES:RCCG Event
ATTACH;FMTTYPE=image/jpeg:https://rccgrc.org/wp-content/uploads/2025/03/rc-seat.jpg
ORGANIZER;CN="Abby Daramola":MAILTO:info@rccgrc.org
END:VEVENT
BEGIN:VEVENT
DTSTART;TZID=UTC:20261129T100000
DTEND;TZID=UTC:20261129T123000
DTSTAMP:20260420T074924
CREATED:20250318T002302Z
LAST-MODIFIED:20250719T231504Z
UID:10002431-1795946400-1795955400@rccgrc.org
SUMMARY:This is Home | We saving a seat just for YOU!
DESCRIPTION:
URL:https://rccgrc.org/event/this-is-home-we-saving-a-seat-just-for-you/2026-11-29/
LOCATION:RCCG\, RCCG Restoration Church 5600 Sunnyside Avenue\, Beltsville\, MD\, 20705\, United States
CATEGORIES:RCCG Event
ATTACH;FMTTYPE=image/jpeg:https://rccgrc.org/wp-content/uploads/2025/03/rc-seat.jpg
ORGANIZER;CN="Abby Daramola":MAILTO:info@rccgrc.org
END:VEVENT
END:VCALENDAR