BEGIN:VCALENDAR
VERSION:2.0
PRODID:-//RCCG Restoration Church - ECPv6.15.20//NONSGML v1.0//EN
CALSCALE:GREGORIAN
METHOD:PUBLISH
X-ORIGINAL-URL:https://rccgrc.org
X-WR-CALDESC:Events for RCCG Restoration Church
REFRESH-INTERVAL;VALUE=DURATION:PT1H
X-Robots-Tag:noindex
X-PUBLISHED-TTL:PT1H
BEGIN:VTIMEZONE
TZID:UTC
BEGIN:STANDARD
TZOFFSETFROM:+0000
TZOFFSETTO:+0000
TZNAME:UTC
DTSTART:20250101T000000
END:STANDARD
END:VTIMEZONE
BEGIN:VTIMEZONE
TZID:America/New_York
BEGIN:DAYLIGHT
TZOFFSETFROM:-0500
TZOFFSETTO:-0400
TZNAME:EDT
DTSTART:20250309T070000
END:DAYLIGHT
BEGIN:STANDARD
TZOFFSETFROM:-0400
TZOFFSETTO:-0500
TZNAME:EST
DTSTART:20251102T060000
END:STANDARD
BEGIN:DAYLIGHT
TZOFFSETFROM:-0500
TZOFFSETTO:-0400
TZNAME:EDT
DTSTART:20260308T070000
END:DAYLIGHT
BEGIN:STANDARD
TZOFFSETFROM:-0400
TZOFFSETTO:-0500
TZNAME:EST
DTSTART:20261101T060000
END:STANDARD
BEGIN:DAYLIGHT
TZOFFSETFROM:-0500
TZOFFSETTO:-0400
TZNAME:EDT
DTSTART:20270314T070000
END:DAYLIGHT
BEGIN:STANDARD
TZOFFSETFROM:-0400
TZOFFSETTO:-0500
TZNAME:EST
DTSTART:20271107T060000
END:STANDARD
END:VTIMEZONE
BEGIN:VEVENT
DTSTART;TZID=UTC:20261002T193000
DTEND;TZID=UTC:20261002T203000
DTSTAMP:20260420T072414
CREATED:20260223T013851Z
LAST-MODIFIED:20260313T153704Z
UID:10005535-1790969400-1790973000@rccgrc.org
SUMMARY:Teens Bible Study | Emerge | Every other Friday | 7:30pm
DESCRIPTION:
URL:https://rccgrc.org/event/teens-bible-study-emerge-every-other-friday-730pm-2-2/2026-10-02/
LOCATION:Zoom
CATEGORIES:RCCG Event
ATTACH;FMTTYPE=image/jpeg:https://rccgrc.org/wp-content/uploads/2026/02/WhatsApp-Image-2026-02-12-at-7.58.34-AM.jpeg
ORGANIZER;CN="Abby Daramola":MAILTO:info@rccgrc.org
END:VEVENT
BEGIN:VEVENT
DTSTART;TZID=America/New_York:20261003T090000
DTEND;TZID=America/New_York:20261003T093000
DTSTAMP:20260420T072414
CREATED:20240712T130707Z
LAST-MODIFIED:20260223T013312Z
UID:10005319-1791018000-1791019800@rccgrc.org
SUMMARY:Recharge; RC Youth and Young Adult
DESCRIPTION:
URL:https://rccgrc.org/event/recharge-rc-youth-and-young-adult/2026-10-03/
LOCATION:RCCG\, RCCG Restoration Church 5600 Sunnyside Avenue\, Beltsville\, MD\, 20705\, United States
ATTACH;FMTTYPE=image/jpeg:https://rccgrc.org/wp-content/uploads/2024/07/RC-RECHARGE-26.jpg.jpeg
END:VEVENT
BEGIN:VEVENT
DTSTART;TZID=UTC:20261004T100000
DTEND;TZID=UTC:20261004T123000
DTSTAMP:20260420T072414
CREATED:20250318T002302Z
LAST-MODIFIED:20250719T231504Z
UID:10002423-1791108000-1791117000@rccgrc.org
SUMMARY:This is Home | We saving a seat just for YOU!
DESCRIPTION:
URL:https://rccgrc.org/event/this-is-home-we-saving-a-seat-just-for-you/2026-10-04/
LOCATION:RCCG\, RCCG Restoration Church 5600 Sunnyside Avenue\, Beltsville\, MD\, 20705\, United States
CATEGORIES:RCCG Event
ATTACH;FMTTYPE=image/jpeg:https://rccgrc.org/wp-content/uploads/2025/03/rc-seat.jpg
ORGANIZER;CN="Abby Daramola":MAILTO:info@rccgrc.org
END:VEVENT
BEGIN:VEVENT
DTSTART;TZID=UTC:20261007T193000
DTEND;TZID=UTC:20261007T203000
DTSTAMP:20260420T072414
CREATED:20260419T133031Z
LAST-MODIFIED:20260419T133033Z
UID:10005636-1791401400-1791405000@rccgrc.org
SUMMARY:Revealed || Discovering Treasures in God's Word | Wednesdays | 7:30pm
DESCRIPTION:
URL:https://rccgrc.org/event/revealed-4-2/2026-10-07/
LOCATION:RCCG\, RCCG Restoration Church 5600 Sunnyside Avenue\, Beltsville\, MD\, 20705\, United States
CATEGORIES:RCCG Event
ATTACH;FMTTYPE=image/jpeg:https://rccgrc.org/wp-content/uploads/2026/03/revealed_shift-e1776605380651.jpg
ORGANIZER;CN="Abby Daramola":MAILTO:info@rccgrc.org
END:VEVENT
BEGIN:VEVENT
DTSTART;TZID=America/New_York:20261010T080000
DTEND;TZID=America/New_York:20261010T090000
DTSTAMP:20260420T072414
CREATED:20240712T125542Z
LAST-MODIFIED:20250719T231303Z
UID:10000414-1791619200-1791622800@rccgrc.org
SUMMARY:Wise Men Prayers
DESCRIPTION:
URL:https://rccgrc.org/event/wise-men-prayers/2026-10-10/
LOCATION:RCCG\, RCCG Restoration Church 5600 Sunnyside Avenue\, Beltsville\, MD\, 20705\, United States
CATEGORIES:RCCG Event
ATTACH;FMTTYPE=image/jpeg:https://rccgrc.org/wp-content/uploads/2024/07/rc-wm.jpg
END:VEVENT
BEGIN:VEVENT
DTSTART;TZID=America/New_York:20261011T090000
DTEND;TZID=America/New_York:20261011T100000
DTSTAMP:20260420T072414
CREATED:20240712T125010Z
LAST-MODIFIED:20260201T194813Z
UID:10000277-1791709200-1791712800@rccgrc.org
SUMMARY:Morning Dew
DESCRIPTION:
URL:https://rccgrc.org/event/morning-dew/2026-10-11/
LOCATION:RCCG\, RCCG Restoration Church 5600 Sunnyside Avenue\, Beltsville\, MD\, 20705\, United States
ATTACH;FMTTYPE=image/jpeg:https://rccgrc.org/wp-content/uploads/2024/07/rc-morning-26.jpg.jpeg
END:VEVENT
BEGIN:VEVENT
DTSTART;TZID=UTC:20261011T100000
DTEND;TZID=UTC:20261011T123000
DTSTAMP:20260420T072414
CREATED:20250318T002302Z
LAST-MODIFIED:20250719T231504Z
UID:10002424-1791712800-1791721800@rccgrc.org
SUMMARY:This is Home | We saving a seat just for YOU!
DESCRIPTION:
URL:https://rccgrc.org/event/this-is-home-we-saving-a-seat-just-for-you/2026-10-11/
LOCATION:RCCG\, RCCG Restoration Church 5600 Sunnyside Avenue\, Beltsville\, MD\, 20705\, United States
CATEGORIES:RCCG Event
ATTACH;FMTTYPE=image/jpeg:https://rccgrc.org/wp-content/uploads/2025/03/rc-seat.jpg
ORGANIZER;CN="Abby Daramola":MAILTO:info@rccgrc.org
END:VEVENT
BEGIN:VEVENT
DTSTART;TZID=UTC:20261014T193000
DTEND;TZID=UTC:20261014T203000
DTSTAMP:20260420T072414
CREATED:20260419T133031Z
LAST-MODIFIED:20260419T133033Z
UID:10005637-1792006200-1792009800@rccgrc.org
SUMMARY:Revealed || Discovering Treasures in God's Word | Wednesdays | 7:30pm
DESCRIPTION:
URL:https://rccgrc.org/event/revealed-4-2/2026-10-14/
LOCATION:RCCG\, RCCG Restoration Church 5600 Sunnyside Avenue\, Beltsville\, MD\, 20705\, United States
CATEGORIES:RCCG Event
ATTACH;FMTTYPE=image/jpeg:https://rccgrc.org/wp-content/uploads/2026/03/revealed_shift-e1776605380651.jpg
ORGANIZER;CN="Abby Daramola":MAILTO:info@rccgrc.org
END:VEVENT
BEGIN:VEVENT
DTSTART;TZID=UTC:20261016T190000
DTEND;TZID=UTC:20261016T200000
DTSTAMP:20260420T072414
CREATED:20260212T184752Z
LAST-MODIFIED:20260212T190150Z
UID:10004677-1792177200-1792180800@rccgrc.org
SUMMARY:RISE Young Adult Bible Study | Third Fridays | 7pm
DESCRIPTION:
URL:https://rccgrc.org/event/rise-young-adult-bible-hangout-third-fridays-7pm/2026-10-16/
LOCATION:Zoom
CATEGORIES:RCCG Event
ATTACH;FMTTYPE=image/jpeg:https://rccgrc.org/wp-content/uploads/2026/02/rc-rise-bible-hangout.jpg.jpeg
ORGANIZER;CN="Abby Daramola":MAILTO:info@rccgrc.org
END:VEVENT
BEGIN:VEVENT
DTSTART;TZID=UTC:20261016T193000
DTEND;TZID=UTC:20261016T203000
DTSTAMP:20260420T072414
CREATED:20260223T013851Z
LAST-MODIFIED:20260313T153704Z
UID:10005536-1792179000-1792182600@rccgrc.org
SUMMARY:Teens Bible Study | Emerge | Every other Friday | 7:30pm
DESCRIPTION:
URL:https://rccgrc.org/event/teens-bible-study-emerge-every-other-friday-730pm-2-2/2026-10-16/
LOCATION:Zoom
CATEGORIES:RCCG Event
ATTACH;FMTTYPE=image/jpeg:https://rccgrc.org/wp-content/uploads/2026/02/WhatsApp-Image-2026-02-12-at-7.58.34-AM.jpeg
ORGANIZER;CN="Abby Daramola":MAILTO:info@rccgrc.org
END:VEVENT
BEGIN:VEVENT
DTSTART;TZID=UTC:20261017T060000
DTEND;TZID=UTC:20261017T073000
DTSTAMP:20260420T072414
CREATED:20240710T162539Z
LAST-MODIFIED:20250719T161948Z
UID:10000155-1792216800-1792222200@rccgrc.org
SUMMARY:Winning Women Prayers
DESCRIPTION:
URL:https://rccgrc.org/event/winning-women-prayers/2026-10-17/
LOCATION:RCCG\, RCCG Restoration Church 5600 Sunnyside Avenue\, Beltsville\, MD\, 20705\, United States
CATEGORIES:RCCG Event
ATTACH;FMTTYPE=image/png:https://rccgrc.org/wp-content/uploads/2024/07/winning_women.png
END:VEVENT
BEGIN:VEVENT
DTSTART;TZID=America/New_York:20261017T180000
DTEND;TZID=America/New_York:20261017T190000
DTSTAMP:20260420T072414
CREATED:20240712T130305Z
LAST-MODIFIED:20250421T215309Z
UID:10000096-1792260000-1792263600@rccgrc.org
SUMMARY:Grace Fellowship Monthly Prayers
DESCRIPTION:
URL:https://rccgrc.org/event/grace-fellowship-monthly-prayers/2026-10-17/
LOCATION:RCCG\, RCCG Restoration Church 5600 Sunnyside Avenue\, Beltsville\, MD\, 20705\, United States
ATTACH;FMTTYPE=image/jpeg:https://rccgrc.org/wp-content/uploads/2024/07/grace-fellowship-1.jpeg
END:VEVENT
BEGIN:VEVENT
DTSTART;TZID=America/New_York:20261018T090000
DTEND;TZID=America/New_York:20261018T100000
DTSTAMP:20260420T072414
CREATED:20240712T125010Z
LAST-MODIFIED:20260201T194813Z
UID:10000278-1792314000-1792317600@rccgrc.org
SUMMARY:Morning Dew
DESCRIPTION:
URL:https://rccgrc.org/event/morning-dew/2026-10-18/
LOCATION:RCCG\, RCCG Restoration Church 5600 Sunnyside Avenue\, Beltsville\, MD\, 20705\, United States
ATTACH;FMTTYPE=image/jpeg:https://rccgrc.org/wp-content/uploads/2024/07/rc-morning-26.jpg.jpeg
END:VEVENT
BEGIN:VEVENT
DTSTART;TZID=UTC:20261018T100000
DTEND;TZID=UTC:20261018T123000
DTSTAMP:20260420T072415
CREATED:20250318T002302Z
LAST-MODIFIED:20250719T231504Z
UID:10002425-1792317600-1792326600@rccgrc.org
SUMMARY:This is Home | We saving a seat just for YOU!
DESCRIPTION:
URL:https://rccgrc.org/event/this-is-home-we-saving-a-seat-just-for-you/2026-10-18/
LOCATION:RCCG\, RCCG Restoration Church 5600 Sunnyside Avenue\, Beltsville\, MD\, 20705\, United States
CATEGORIES:RCCG Event
ATTACH;FMTTYPE=image/jpeg:https://rccgrc.org/wp-content/uploads/2025/03/rc-seat.jpg
ORGANIZER;CN="Abby Daramola":MAILTO:info@rccgrc.org
END:VEVENT
BEGIN:VEVENT
DTSTART;TZID=UTC:20261021T193000
DTEND;TZID=UTC:20261021T203000
DTSTAMP:20260420T072415
CREATED:20260419T133031Z
LAST-MODIFIED:20260419T133033Z
UID:10005638-1792611000-1792614600@rccgrc.org
SUMMARY:Revealed || Discovering Treasures in God's Word | Wednesdays | 7:30pm
DESCRIPTION:
URL:https://rccgrc.org/event/revealed-4-2/2026-10-21/
LOCATION:RCCG\, RCCG Restoration Church 5600 Sunnyside Avenue\, Beltsville\, MD\, 20705\, United States
CATEGORIES:RCCG Event
ATTACH;FMTTYPE=image/jpeg:https://rccgrc.org/wp-content/uploads/2026/03/revealed_shift-e1776605380651.jpg
ORGANIZER;CN="Abby Daramola":MAILTO:info@rccgrc.org
END:VEVENT
BEGIN:VEVENT
DTSTART;TZID=America/New_York:20261025T090000
DTEND;TZID=America/New_York:20261025T100000
DTSTAMP:20260420T072415
CREATED:20240712T125010Z
LAST-MODIFIED:20260201T194813Z
UID:10000279-1792918800-1792922400@rccgrc.org
SUMMARY:Morning Dew
DESCRIPTION:
URL:https://rccgrc.org/event/morning-dew/2026-10-25/
LOCATION:RCCG\, RCCG Restoration Church 5600 Sunnyside Avenue\, Beltsville\, MD\, 20705\, United States
ATTACH;FMTTYPE=image/jpeg:https://rccgrc.org/wp-content/uploads/2024/07/rc-morning-26.jpg.jpeg
END:VEVENT
BEGIN:VEVENT
DTSTART;TZID=UTC:20261025T100000
DTEND;TZID=UTC:20261025T123000
DTSTAMP:20260420T072415
CREATED:20250318T002302Z
LAST-MODIFIED:20250719T231504Z
UID:10002426-1792922400-1792931400@rccgrc.org
SUMMARY:This is Home | We saving a seat just for YOU!
DESCRIPTION:
URL:https://rccgrc.org/event/this-is-home-we-saving-a-seat-just-for-you/2026-10-25/
LOCATION:RCCG\, RCCG Restoration Church 5600 Sunnyside Avenue\, Beltsville\, MD\, 20705\, United States
CATEGORIES:RCCG Event
ATTACH;FMTTYPE=image/jpeg:https://rccgrc.org/wp-content/uploads/2025/03/rc-seat.jpg
ORGANIZER;CN="Abby Daramola":MAILTO:info@rccgrc.org
END:VEVENT
BEGIN:VEVENT
DTSTART;TZID=UTC:20261028T193000
DTEND;TZID=UTC:20261028T203000
DTSTAMP:20260420T072415
CREATED:20260419T133031Z
LAST-MODIFIED:20260419T133033Z
UID:10005639-1793215800-1793219400@rccgrc.org
SUMMARY:Revealed || Discovering Treasures in God's Word | Wednesdays | 7:30pm
DESCRIPTION:
URL:https://rccgrc.org/event/revealed-4-2/2026-10-28/
LOCATION:RCCG\, RCCG Restoration Church 5600 Sunnyside Avenue\, Beltsville\, MD\, 20705\, United States
CATEGORIES:RCCG Event
ATTACH;FMTTYPE=image/jpeg:https://rccgrc.org/wp-content/uploads/2026/03/revealed_shift-e1776605380651.jpg
ORGANIZER;CN="Abby Daramola":MAILTO:info@rccgrc.org
END:VEVENT
BEGIN:VEVENT
DTSTART;TZID=UTC:20261030T193000
DTEND;TZID=UTC:20261030T203000
DTSTAMP:20260420T072415
CREATED:20260223T013851Z
LAST-MODIFIED:20260313T153704Z
UID:10005449-1793388600-1793392200@rccgrc.org
SUMMARY:Teens Bible Study | Emerge | Every other Friday | 7:30pm
DESCRIPTION:
URL:https://rccgrc.org/event/teens-bible-study-emerge-every-other-friday-730pm-2-2/2026-10-30/
LOCATION:Zoom
CATEGORIES:RCCG Event
ATTACH;FMTTYPE=image/jpeg:https://rccgrc.org/wp-content/uploads/2026/02/WhatsApp-Image-2026-02-12-at-7.58.34-AM.jpeg
ORGANIZER;CN="Abby Daramola":MAILTO:info@rccgrc.org
END:VEVENT
END:VCALENDAR