BEGIN:VCALENDAR
VERSION:2.0
PRODID:-//RCCG Restoration Church - ECPv6.15.20//NONSGML v1.0//EN
CALSCALE:GREGORIAN
METHOD:PUBLISH
X-ORIGINAL-URL:https://rccgrc.org
X-WR-CALDESC:Events for RCCG Restoration Church
REFRESH-INTERVAL;VALUE=DURATION:PT1H
X-Robots-Tag:noindex
X-PUBLISHED-TTL:PT1H
BEGIN:VTIMEZONE
TZID:UTC
BEGIN:STANDARD
TZOFFSETFROM:+0000
TZOFFSETTO:+0000
TZNAME:UTC
DTSTART:20270101T000000
END:STANDARD
END:VTIMEZONE
BEGIN:VTIMEZONE
TZID:America/New_York
BEGIN:DAYLIGHT
TZOFFSETFROM:-0500
TZOFFSETTO:-0400
TZNAME:EDT
DTSTART:20270314T070000
END:DAYLIGHT
BEGIN:STANDARD
TZOFFSETFROM:-0400
TZOFFSETTO:-0500
TZNAME:EST
DTSTART:20271107T060000
END:STANDARD
BEGIN:DAYLIGHT
TZOFFSETFROM:-0500
TZOFFSETTO:-0400
TZNAME:EDT
DTSTART:20280312T070000
END:DAYLIGHT
BEGIN:STANDARD
TZOFFSETFROM:-0400
TZOFFSETTO:-0500
TZNAME:EST
DTSTART:20281105T060000
END:STANDARD
BEGIN:DAYLIGHT
TZOFFSETFROM:-0500
TZOFFSETTO:-0400
TZNAME:EDT
DTSTART:20290311T070000
END:DAYLIGHT
BEGIN:STANDARD
TZOFFSETFROM:-0400
TZOFFSETTO:-0500
TZNAME:EST
DTSTART:20291104T060000
END:STANDARD
END:VTIMEZONE
BEGIN:VEVENT
DTSTART;TZID=UTC:20280617T060000
DTEND;TZID=UTC:20280617T073000
DTSTAMP:20260422T222306
CREATED:20240710T162539Z
LAST-MODIFIED:20250719T161948Z
UID:10000175-1844834400-1844839800@rccgrc.org
SUMMARY:Winning Women Prayers
DESCRIPTION:
URL:https://rccgrc.org/event/winning-women-prayers/2028-06-17/
LOCATION:RCCG\, RCCG Restoration Church 5600 Sunnyside Avenue\, Beltsville\, MD\, 20705\, United States
CATEGORIES:RCCG Event
ATTACH;FMTTYPE=image/png:https://rccgrc.org/wp-content/uploads/2024/07/winning_women.png
END:VEVENT
BEGIN:VEVENT
DTSTART;TZID=America/New_York:20280617T180000
DTEND;TZID=America/New_York:20280617T190000
DTSTAMP:20260422T222306
CREATED:20240712T130305Z
LAST-MODIFIED:20250421T215309Z
UID:10000116-1844877600-1844881200@rccgrc.org
SUMMARY:Grace Fellowship Monthly Prayers
DESCRIPTION:
URL:https://rccgrc.org/event/grace-fellowship-monthly-prayers/2028-06-17/
LOCATION:RCCG\, RCCG Restoration Church 5600 Sunnyside Avenue\, Beltsville\, MD\, 20705\, United States
ATTACH;FMTTYPE=image/jpeg:https://rccgrc.org/wp-content/uploads/2024/07/grace-fellowship-1.jpeg
END:VEVENT
BEGIN:VEVENT
DTSTART;TZID=America/New_York:20280618T090000
DTEND;TZID=America/New_York:20280618T100000
DTSTAMP:20260422T222306
CREATED:20240712T125010Z
LAST-MODIFIED:20260201T194813Z
UID:10000345-1844931600-1844935200@rccgrc.org
SUMMARY:Morning Dew
DESCRIPTION:
URL:https://rccgrc.org/event/morning-dew/2028-06-18/
LOCATION:RCCG\, RCCG Restoration Church 5600 Sunnyside Avenue\, Beltsville\, MD\, 20705\, United States
ATTACH;FMTTYPE=image/jpeg:https://rccgrc.org/wp-content/uploads/2024/07/rc-morning-26.jpg.jpeg
END:VEVENT
BEGIN:VEVENT
DTSTART;TZID=UTC:20280618T100000
DTEND;TZID=UTC:20280618T123000
DTSTAMP:20260422T222306
CREATED:20250318T002302Z
LAST-MODIFIED:20250719T231504Z
UID:10002512-1844935200-1844944200@rccgrc.org
SUMMARY:This is Home | We saving a seat just for YOU!
DESCRIPTION:
URL:https://rccgrc.org/event/this-is-home-we-saving-a-seat-just-for-you/2028-06-18/
LOCATION:RCCG\, RCCG Restoration Church 5600 Sunnyside Avenue\, Beltsville\, MD\, 20705\, United States
CATEGORIES:RCCG Event
ATTACH;FMTTYPE=image/jpeg:https://rccgrc.org/wp-content/uploads/2025/03/rc-seat.jpg
ORGANIZER;CN="Abby Daramola":MAILTO:info@rccgrc.org
END:VEVENT
BEGIN:VEVENT
DTSTART;TZID=UTC:20280621T193000
DTEND;TZID=UTC:20280621T203000
DTSTAMP:20260422T222306
CREATED:20260419T133031Z
LAST-MODIFIED:20260419T133033Z
UID:10005725-1845228600-1845232200@rccgrc.org
SUMMARY:Revealed || Discovering Treasures in God's Word | Wednesdays | 7:30pm
DESCRIPTION:
URL:https://rccgrc.org/event/revealed-4-2/2028-06-21/
LOCATION:RCCG\, RCCG Restoration Church 5600 Sunnyside Avenue\, Beltsville\, MD\, 20705\, United States
CATEGORIES:RCCG Event
ATTACH;FMTTYPE=image/jpeg:https://rccgrc.org/wp-content/uploads/2026/03/revealed_shift-e1776605380651.jpg
ORGANIZER;CN="Abby Daramola":MAILTO:info@rccgrc.org
END:VEVENT
BEGIN:VEVENT
DTSTART;TZID=UTC:20280623T193000
DTEND;TZID=UTC:20280623T203000
DTSTAMP:20260422T222306
CREATED:20260223T013851Z
LAST-MODIFIED:20260313T153704Z
UID:10005565-1845401400-1845405000@rccgrc.org
SUMMARY:Teens Bible Study | Emerge | Every other Friday | 7:30pm
DESCRIPTION:
URL:https://rccgrc.org/event/teens-bible-study-emerge-every-other-friday-730pm-2-2/2028-06-23/
LOCATION:Zoom
CATEGORIES:RCCG Event
ATTACH;FMTTYPE=image/jpeg:https://rccgrc.org/wp-content/uploads/2026/02/WhatsApp-Image-2026-02-12-at-7.58.34-AM.jpeg
ORGANIZER;CN="Abby Daramola":MAILTO:info@rccgrc.org
END:VEVENT
BEGIN:VEVENT
DTSTART;TZID=America/New_York:20280625T090000
DTEND;TZID=America/New_York:20280625T100000
DTSTAMP:20260422T222306
CREATED:20240712T125010Z
LAST-MODIFIED:20260201T194813Z
UID:10000346-1845536400-1845540000@rccgrc.org
SUMMARY:Morning Dew
DESCRIPTION:
URL:https://rccgrc.org/event/morning-dew/2028-06-25/
LOCATION:RCCG\, RCCG Restoration Church 5600 Sunnyside Avenue\, Beltsville\, MD\, 20705\, United States
ATTACH;FMTTYPE=image/jpeg:https://rccgrc.org/wp-content/uploads/2024/07/rc-morning-26.jpg.jpeg
END:VEVENT
BEGIN:VEVENT
DTSTART;TZID=UTC:20280625T100000
DTEND;TZID=UTC:20280625T123000
DTSTAMP:20260422T222306
CREATED:20250318T002302Z
LAST-MODIFIED:20250719T231504Z
UID:10002513-1845540000-1845549000@rccgrc.org
SUMMARY:This is Home | We saving a seat just for YOU!
DESCRIPTION:
URL:https://rccgrc.org/event/this-is-home-we-saving-a-seat-just-for-you/2028-06-25/
LOCATION:RCCG\, RCCG Restoration Church 5600 Sunnyside Avenue\, Beltsville\, MD\, 20705\, United States
CATEGORIES:RCCG Event
ATTACH;FMTTYPE=image/jpeg:https://rccgrc.org/wp-content/uploads/2025/03/rc-seat.jpg
ORGANIZER;CN="Abby Daramola":MAILTO:info@rccgrc.org
END:VEVENT
BEGIN:VEVENT
DTSTART;TZID=UTC:20280628T193000
DTEND;TZID=UTC:20280628T203000
DTSTAMP:20260422T222306
CREATED:20260419T133031Z
LAST-MODIFIED:20260419T133033Z
UID:10005726-1845833400-1845837000@rccgrc.org
SUMMARY:Revealed || Discovering Treasures in God's Word | Wednesdays | 7:30pm
DESCRIPTION:
URL:https://rccgrc.org/event/revealed-4-2/2028-06-28/
LOCATION:RCCG\, RCCG Restoration Church 5600 Sunnyside Avenue\, Beltsville\, MD\, 20705\, United States
CATEGORIES:RCCG Event
ATTACH;FMTTYPE=image/jpeg:https://rccgrc.org/wp-content/uploads/2026/03/revealed_shift-e1776605380651.jpg
ORGANIZER;CN="Abby Daramola":MAILTO:info@rccgrc.org
END:VEVENT
BEGIN:VEVENT
DTSTART;TZID=America/New_York:20280701T090000
DTEND;TZID=America/New_York:20280701T093000
DTSTAMP:20260422T222306
CREATED:20240712T130707Z
LAST-MODIFIED:20260223T013312Z
UID:10005340-1846054800-1846056600@rccgrc.org
SUMMARY:Recharge; RC Youth and Young Adult
DESCRIPTION:
URL:https://rccgrc.org/event/recharge-rc-youth-and-young-adult/2028-07-01/
LOCATION:RCCG\, RCCG Restoration Church 5600 Sunnyside Avenue\, Beltsville\, MD\, 20705\, United States
ATTACH;FMTTYPE=image/jpeg:https://rccgrc.org/wp-content/uploads/2024/07/RC-RECHARGE-26.jpg.jpeg
END:VEVENT
BEGIN:VEVENT
DTSTART;TZID=UTC:20280702T100000
DTEND;TZID=UTC:20280702T123000
DTSTAMP:20260422T222306
CREATED:20250318T002302Z
LAST-MODIFIED:20250719T231504Z
UID:10002514-1846144800-1846153800@rccgrc.org
SUMMARY:This is Home | We saving a seat just for YOU!
DESCRIPTION:
URL:https://rccgrc.org/event/this-is-home-we-saving-a-seat-just-for-you/2028-07-02/
LOCATION:RCCG\, RCCG Restoration Church 5600 Sunnyside Avenue\, Beltsville\, MD\, 20705\, United States
CATEGORIES:RCCG Event
ATTACH;FMTTYPE=image/jpeg:https://rccgrc.org/wp-content/uploads/2025/03/rc-seat.jpg
ORGANIZER;CN="Abby Daramola":MAILTO:info@rccgrc.org
END:VEVENT
BEGIN:VEVENT
DTSTART;TZID=UTC:20280705T193000
DTEND;TZID=UTC:20280705T203000
DTSTAMP:20260422T222306
CREATED:20260419T133031Z
LAST-MODIFIED:20260419T133033Z
UID:10005727-1846438200-1846441800@rccgrc.org
SUMMARY:Revealed || Discovering Treasures in God's Word | Wednesdays | 7:30pm
DESCRIPTION:
URL:https://rccgrc.org/event/revealed-4-2/2028-07-05/
LOCATION:RCCG\, RCCG Restoration Church 5600 Sunnyside Avenue\, Beltsville\, MD\, 20705\, United States
CATEGORIES:RCCG Event
ATTACH;FMTTYPE=image/jpeg:https://rccgrc.org/wp-content/uploads/2026/03/revealed_shift-e1776605380651.jpg
ORGANIZER;CN="Abby Daramola":MAILTO:info@rccgrc.org
END:VEVENT
BEGIN:VEVENT
DTSTART;TZID=UTC:20280707T193000
DTEND;TZID=UTC:20280707T203000
DTSTAMP:20260422T222306
CREATED:20260223T013851Z
LAST-MODIFIED:20260313T153704Z
UID:10005566-1846611000-1846614600@rccgrc.org
SUMMARY:Teens Bible Study | Emerge | Every other Friday | 7:30pm
DESCRIPTION:
URL:https://rccgrc.org/event/teens-bible-study-emerge-every-other-friday-730pm-2-2/2028-07-07/
LOCATION:Zoom
CATEGORIES:RCCG Event
ATTACH;FMTTYPE=image/jpeg:https://rccgrc.org/wp-content/uploads/2026/02/WhatsApp-Image-2026-02-12-at-7.58.34-AM.jpeg
ORGANIZER;CN="Abby Daramola":MAILTO:info@rccgrc.org
END:VEVENT
BEGIN:VEVENT
DTSTART;TZID=America/New_York:20280708T080000
DTEND;TZID=America/New_York:20280708T090000
DTSTAMP:20260422T222306
CREATED:20240712T125542Z
LAST-MODIFIED:20250719T231303Z
UID:10000435-1846656000-1846659600@rccgrc.org
SUMMARY:Wise Men Prayers
DESCRIPTION:
URL:https://rccgrc.org/event/wise-men-prayers/2028-07-08/
LOCATION:RCCG\, RCCG Restoration Church 5600 Sunnyside Avenue\, Beltsville\, MD\, 20705\, United States
CATEGORIES:RCCG Event
ATTACH;FMTTYPE=image/jpeg:https://rccgrc.org/wp-content/uploads/2024/07/rc-wm.jpg
END:VEVENT
BEGIN:VEVENT
DTSTART;TZID=America/New_York:20280709T090000
DTEND;TZID=America/New_York:20280709T100000
DTSTAMP:20260422T222306
CREATED:20240712T125010Z
LAST-MODIFIED:20260201T194813Z
UID:10000347-1846746000-1846749600@rccgrc.org
SUMMARY:Morning Dew
DESCRIPTION:
URL:https://rccgrc.org/event/morning-dew/2028-07-09/
LOCATION:RCCG\, RCCG Restoration Church 5600 Sunnyside Avenue\, Beltsville\, MD\, 20705\, United States
ATTACH;FMTTYPE=image/jpeg:https://rccgrc.org/wp-content/uploads/2024/07/rc-morning-26.jpg.jpeg
END:VEVENT
BEGIN:VEVENT
DTSTART;TZID=UTC:20280709T100000
DTEND;TZID=UTC:20280709T123000
DTSTAMP:20260422T222306
CREATED:20250318T002302Z
LAST-MODIFIED:20250719T231504Z
UID:10002515-1846749600-1846758600@rccgrc.org
SUMMARY:This is Home | We saving a seat just for YOU!
DESCRIPTION:
URL:https://rccgrc.org/event/this-is-home-we-saving-a-seat-just-for-you/2028-07-09/
LOCATION:RCCG\, RCCG Restoration Church 5600 Sunnyside Avenue\, Beltsville\, MD\, 20705\, United States
CATEGORIES:RCCG Event
ATTACH;FMTTYPE=image/jpeg:https://rccgrc.org/wp-content/uploads/2025/03/rc-seat.jpg
ORGANIZER;CN="Abby Daramola":MAILTO:info@rccgrc.org
END:VEVENT
BEGIN:VEVENT
DTSTART;TZID=UTC:20280712T193000
DTEND;TZID=UTC:20280712T203000
DTSTAMP:20260422T222306
CREATED:20260419T133031Z
LAST-MODIFIED:20260419T133033Z
UID:10005728-1847043000-1847046600@rccgrc.org
SUMMARY:Revealed || Discovering Treasures in God's Word | Wednesdays | 7:30pm
DESCRIPTION:
URL:https://rccgrc.org/event/revealed-4-2/2028-07-12/
LOCATION:RCCG\, RCCG Restoration Church 5600 Sunnyside Avenue\, Beltsville\, MD\, 20705\, United States
CATEGORIES:RCCG Event
ATTACH;FMTTYPE=image/jpeg:https://rccgrc.org/wp-content/uploads/2026/03/revealed_shift-e1776605380651.jpg
ORGANIZER;CN="Abby Daramola":MAILTO:info@rccgrc.org
END:VEVENT
BEGIN:VEVENT
DTSTART;TZID=UTC:20280715T060000
DTEND;TZID=UTC:20280715T073000
DTSTAMP:20260422T222306
CREATED:20240710T162539Z
LAST-MODIFIED:20250719T161948Z
UID:10000176-1847253600-1847259000@rccgrc.org
SUMMARY:Winning Women Prayers
DESCRIPTION:
URL:https://rccgrc.org/event/winning-women-prayers/2028-07-15/
LOCATION:RCCG\, RCCG Restoration Church 5600 Sunnyside Avenue\, Beltsville\, MD\, 20705\, United States
CATEGORIES:RCCG Event
ATTACH;FMTTYPE=image/png:https://rccgrc.org/wp-content/uploads/2024/07/winning_women.png
END:VEVENT
BEGIN:VEVENT
DTSTART;TZID=America/New_York:20280715T180000
DTEND;TZID=America/New_York:20280715T190000
DTSTAMP:20260422T222306
CREATED:20240712T130305Z
LAST-MODIFIED:20250421T215309Z
UID:10000117-1847296800-1847300400@rccgrc.org
SUMMARY:Grace Fellowship Monthly Prayers
DESCRIPTION:
URL:https://rccgrc.org/event/grace-fellowship-monthly-prayers/2028-07-15/
LOCATION:RCCG\, RCCG Restoration Church 5600 Sunnyside Avenue\, Beltsville\, MD\, 20705\, United States
ATTACH;FMTTYPE=image/jpeg:https://rccgrc.org/wp-content/uploads/2024/07/grace-fellowship-1.jpeg
END:VEVENT
BEGIN:VEVENT
DTSTART;TZID=America/New_York:20280716T090000
DTEND;TZID=America/New_York:20280716T100000
DTSTAMP:20260422T222306
CREATED:20240712T125010Z
LAST-MODIFIED:20260201T194813Z
UID:10000348-1847350800-1847354400@rccgrc.org
SUMMARY:Morning Dew
DESCRIPTION:
URL:https://rccgrc.org/event/morning-dew/2028-07-16/
LOCATION:RCCG\, RCCG Restoration Church 5600 Sunnyside Avenue\, Beltsville\, MD\, 20705\, United States
ATTACH;FMTTYPE=image/jpeg:https://rccgrc.org/wp-content/uploads/2024/07/rc-morning-26.jpg.jpeg
END:VEVENT
BEGIN:VEVENT
DTSTART;TZID=UTC:20280716T100000
DTEND;TZID=UTC:20280716T123000
DTSTAMP:20260422T222306
CREATED:20250318T002302Z
LAST-MODIFIED:20250719T231504Z
UID:10002516-1847354400-1847363400@rccgrc.org
SUMMARY:This is Home | We saving a seat just for YOU!
DESCRIPTION:
URL:https://rccgrc.org/event/this-is-home-we-saving-a-seat-just-for-you/2028-07-16/
LOCATION:RCCG\, RCCG Restoration Church 5600 Sunnyside Avenue\, Beltsville\, MD\, 20705\, United States
CATEGORIES:RCCG Event
ATTACH;FMTTYPE=image/jpeg:https://rccgrc.org/wp-content/uploads/2025/03/rc-seat.jpg
ORGANIZER;CN="Abby Daramola":MAILTO:info@rccgrc.org
END:VEVENT
BEGIN:VEVENT
DTSTART;TZID=UTC:20280719T193000
DTEND;TZID=UTC:20280719T203000
DTSTAMP:20260422T222306
CREATED:20260419T133031Z
LAST-MODIFIED:20260419T133033Z
UID:10005729-1847647800-1847651400@rccgrc.org
SUMMARY:Revealed || Discovering Treasures in God's Word | Wednesdays | 7:30pm
DESCRIPTION:
URL:https://rccgrc.org/event/revealed-4-2/2028-07-19/
LOCATION:RCCG\, RCCG Restoration Church 5600 Sunnyside Avenue\, Beltsville\, MD\, 20705\, United States
CATEGORIES:RCCG Event
ATTACH;FMTTYPE=image/jpeg:https://rccgrc.org/wp-content/uploads/2026/03/revealed_shift-e1776605380651.jpg
ORGANIZER;CN="Abby Daramola":MAILTO:info@rccgrc.org
END:VEVENT
BEGIN:VEVENT
DTSTART;TZID=UTC:20280721T190000
DTEND;TZID=UTC:20280721T200000
DTSTAMP:20260422T222306
CREATED:20260212T184752Z
LAST-MODIFIED:20260212T190150Z
UID:10004769-1847818800-1847822400@rccgrc.org
SUMMARY:RISE Young Adult Bible Study | Third Fridays | 7pm
DESCRIPTION:
URL:https://rccgrc.org/event/rise-young-adult-bible-hangout-third-fridays-7pm/2028-07-21/
LOCATION:Zoom
CATEGORIES:RCCG Event
ATTACH;FMTTYPE=image/jpeg:https://rccgrc.org/wp-content/uploads/2026/02/rc-rise-bible-hangout.jpg.jpeg
ORGANIZER;CN="Abby Daramola":MAILTO:info@rccgrc.org
END:VEVENT
BEGIN:VEVENT
DTSTART;TZID=UTC:20280721T193000
DTEND;TZID=UTC:20280721T203000
DTSTAMP:20260422T222306
CREATED:20260223T013851Z
LAST-MODIFIED:20260313T153704Z
UID:10005479-1847820600-1847824200@rccgrc.org
SUMMARY:Teens Bible Study | Emerge | Every other Friday | 7:30pm
DESCRIPTION:
URL:https://rccgrc.org/event/teens-bible-study-emerge-every-other-friday-730pm-2-2/2028-07-21/
LOCATION:Zoom
CATEGORIES:RCCG Event
ATTACH;FMTTYPE=image/jpeg:https://rccgrc.org/wp-content/uploads/2026/02/WhatsApp-Image-2026-02-12-at-7.58.34-AM.jpeg
ORGANIZER;CN="Abby Daramola":MAILTO:info@rccgrc.org
END:VEVENT
BEGIN:VEVENT
DTSTART;TZID=America/New_York:20280723T090000
DTEND;TZID=America/New_York:20280723T100000
DTSTAMP:20260422T222306
CREATED:20240712T125010Z
LAST-MODIFIED:20260201T194813Z
UID:10000349-1847955600-1847959200@rccgrc.org
SUMMARY:Morning Dew
DESCRIPTION:
URL:https://rccgrc.org/event/morning-dew/2028-07-23/
LOCATION:RCCG\, RCCG Restoration Church 5600 Sunnyside Avenue\, Beltsville\, MD\, 20705\, United States
ATTACH;FMTTYPE=image/jpeg:https://rccgrc.org/wp-content/uploads/2024/07/rc-morning-26.jpg.jpeg
END:VEVENT
BEGIN:VEVENT
DTSTART;TZID=UTC:20280723T100000
DTEND;TZID=UTC:20280723T123000
DTSTAMP:20260422T222306
CREATED:20250318T002302Z
LAST-MODIFIED:20250719T231504Z
UID:10002517-1847959200-1847968200@rccgrc.org
SUMMARY:This is Home | We saving a seat just for YOU!
DESCRIPTION:
URL:https://rccgrc.org/event/this-is-home-we-saving-a-seat-just-for-you/2028-07-23/
LOCATION:RCCG\, RCCG Restoration Church 5600 Sunnyside Avenue\, Beltsville\, MD\, 20705\, United States
CATEGORIES:RCCG Event
ATTACH;FMTTYPE=image/jpeg:https://rccgrc.org/wp-content/uploads/2025/03/rc-seat.jpg
ORGANIZER;CN="Abby Daramola":MAILTO:info@rccgrc.org
END:VEVENT
BEGIN:VEVENT
DTSTART;TZID=UTC:20280726T193000
DTEND;TZID=UTC:20280726T203000
DTSTAMP:20260422T222306
CREATED:20260419T133031Z
LAST-MODIFIED:20260419T133033Z
UID:10005730-1848252600-1848256200@rccgrc.org
SUMMARY:Revealed || Discovering Treasures in God's Word | Wednesdays | 7:30pm
DESCRIPTION:
URL:https://rccgrc.org/event/revealed-4-2/2028-07-26/
LOCATION:RCCG\, RCCG Restoration Church 5600 Sunnyside Avenue\, Beltsville\, MD\, 20705\, United States
CATEGORIES:RCCG Event
ATTACH;FMTTYPE=image/jpeg:https://rccgrc.org/wp-content/uploads/2026/03/revealed_shift-e1776605380651.jpg
ORGANIZER;CN="Abby Daramola":MAILTO:info@rccgrc.org
END:VEVENT
BEGIN:VEVENT
DTSTART;TZID=America/New_York:20280730T090000
DTEND;TZID=America/New_York:20280730T100000
DTSTAMP:20260422T222306
CREATED:20240712T125010Z
LAST-MODIFIED:20260201T194813Z
UID:10000350-1848560400-1848564000@rccgrc.org
SUMMARY:Morning Dew
DESCRIPTION:
URL:https://rccgrc.org/event/morning-dew/2028-07-30/
LOCATION:RCCG\, RCCG Restoration Church 5600 Sunnyside Avenue\, Beltsville\, MD\, 20705\, United States
ATTACH;FMTTYPE=image/jpeg:https://rccgrc.org/wp-content/uploads/2024/07/rc-morning-26.jpg.jpeg
END:VEVENT
BEGIN:VEVENT
DTSTART;TZID=UTC:20280730T100000
DTEND;TZID=UTC:20280730T123000
DTSTAMP:20260422T222306
CREATED:20250318T002302Z
LAST-MODIFIED:20250719T231504Z
UID:10002518-1848564000-1848573000@rccgrc.org
SUMMARY:This is Home | We saving a seat just for YOU!
DESCRIPTION:
URL:https://rccgrc.org/event/this-is-home-we-saving-a-seat-just-for-you/2028-07-30/
LOCATION:RCCG\, RCCG Restoration Church 5600 Sunnyside Avenue\, Beltsville\, MD\, 20705\, United States
CATEGORIES:RCCG Event
ATTACH;FMTTYPE=image/jpeg:https://rccgrc.org/wp-content/uploads/2025/03/rc-seat.jpg
ORGANIZER;CN="Abby Daramola":MAILTO:info@rccgrc.org
END:VEVENT
BEGIN:VEVENT
DTSTART;TZID=UTC:20280802T193000
DTEND;TZID=UTC:20280802T203000
DTSTAMP:20260422T222306
CREATED:20260419T133031Z
LAST-MODIFIED:20260419T133033Z
UID:10005731-1848857400-1848861000@rccgrc.org
SUMMARY:Revealed || Discovering Treasures in God's Word | Wednesdays | 7:30pm
DESCRIPTION:
URL:https://rccgrc.org/event/revealed-4-2/2028-08-02/
LOCATION:RCCG\, RCCG Restoration Church 5600 Sunnyside Avenue\, Beltsville\, MD\, 20705\, United States
CATEGORIES:RCCG Event
ATTACH;FMTTYPE=image/jpeg:https://rccgrc.org/wp-content/uploads/2026/03/revealed_shift-e1776605380651.jpg
ORGANIZER;CN="Abby Daramola":MAILTO:info@rccgrc.org
END:VEVENT
END:VCALENDAR