BEGIN:VCALENDAR
VERSION:2.0
PRODID:-//RCCG Restoration Church - ECPv6.15.20//NONSGML v1.0//EN
CALSCALE:GREGORIAN
METHOD:PUBLISH
X-ORIGINAL-URL:https://rccgrc.org
X-WR-CALDESC:Events for RCCG Restoration Church
REFRESH-INTERVAL;VALUE=DURATION:PT1H
X-Robots-Tag:noindex
X-PUBLISHED-TTL:PT1H
BEGIN:VTIMEZONE
TZID:UTC
BEGIN:STANDARD
TZOFFSETFROM:+0000
TZOFFSETTO:+0000
TZNAME:UTC
DTSTART:20270101T000000
END:STANDARD
END:VTIMEZONE
BEGIN:VTIMEZONE
TZID:America/New_York
BEGIN:DAYLIGHT
TZOFFSETFROM:-0500
TZOFFSETTO:-0400
TZNAME:EDT
DTSTART:20270314T070000
END:DAYLIGHT
BEGIN:STANDARD
TZOFFSETFROM:-0400
TZOFFSETTO:-0500
TZNAME:EST
DTSTART:20271107T060000
END:STANDARD
BEGIN:DAYLIGHT
TZOFFSETFROM:-0500
TZOFFSETTO:-0400
TZNAME:EDT
DTSTART:20280312T070000
END:DAYLIGHT
BEGIN:STANDARD
TZOFFSETFROM:-0400
TZOFFSETTO:-0500
TZNAME:EST
DTSTART:20281105T060000
END:STANDARD
BEGIN:DAYLIGHT
TZOFFSETFROM:-0500
TZOFFSETTO:-0400
TZNAME:EDT
DTSTART:20290311T070000
END:DAYLIGHT
BEGIN:STANDARD
TZOFFSETFROM:-0400
TZOFFSETTO:-0500
TZNAME:EST
DTSTART:20291104T060000
END:STANDARD
END:VTIMEZONE
BEGIN:VEVENT
DTSTART;TZID=UTC:20281021T060000
DTEND;TZID=UTC:20281021T073000
DTSTAMP:20260422T224142
CREATED:20240710T162539Z
LAST-MODIFIED:20250719T161948Z
UID:10000179-1855720800-1855726200@rccgrc.org
SUMMARY:Winning Women Prayers
DESCRIPTION:
URL:https://rccgrc.org/event/winning-women-prayers/2028-10-21/
LOCATION:RCCG\, RCCG Restoration Church 5600 Sunnyside Avenue\, Beltsville\, MD\, 20705\, United States
CATEGORIES:RCCG Event
ATTACH;FMTTYPE=image/png:https://rccgrc.org/wp-content/uploads/2024/07/winning_women.png
END:VEVENT
BEGIN:VEVENT
DTSTART;TZID=America/New_York:20281021T180000
DTEND;TZID=America/New_York:20281021T190000
DTSTAMP:20260422T224142
CREATED:20240712T130305Z
LAST-MODIFIED:20250421T215309Z
UID:10000120-1855764000-1855767600@rccgrc.org
SUMMARY:Grace Fellowship Monthly Prayers
DESCRIPTION:
URL:https://rccgrc.org/event/grace-fellowship-monthly-prayers/2028-10-21/
LOCATION:RCCG\, RCCG Restoration Church 5600 Sunnyside Avenue\, Beltsville\, MD\, 20705\, United States
ATTACH;FMTTYPE=image/jpeg:https://rccgrc.org/wp-content/uploads/2024/07/grace-fellowship-1.jpeg
END:VEVENT
BEGIN:VEVENT
DTSTART;TZID=America/New_York:20281022T090000
DTEND;TZID=America/New_York:20281022T100000
DTSTAMP:20260422T224142
CREATED:20240712T125010Z
LAST-MODIFIED:20260201T194813Z
UID:10000359-1855818000-1855821600@rccgrc.org
SUMMARY:Morning Dew
DESCRIPTION:
URL:https://rccgrc.org/event/morning-dew/2028-10-22/
LOCATION:RCCG\, RCCG Restoration Church 5600 Sunnyside Avenue\, Beltsville\, MD\, 20705\, United States
ATTACH;FMTTYPE=image/jpeg:https://rccgrc.org/wp-content/uploads/2024/07/rc-morning-26.jpg.jpeg
END:VEVENT
BEGIN:VEVENT
DTSTART;TZID=UTC:20281022T100000
DTEND;TZID=UTC:20281022T123000
DTSTAMP:20260422T224142
CREATED:20250318T002302Z
LAST-MODIFIED:20250719T231504Z
UID:10002530-1855821600-1855830600@rccgrc.org
SUMMARY:This is Home | We saving a seat just for YOU!
DESCRIPTION:
URL:https://rccgrc.org/event/this-is-home-we-saving-a-seat-just-for-you/2028-10-22/
LOCATION:RCCG\, RCCG Restoration Church 5600 Sunnyside Avenue\, Beltsville\, MD\, 20705\, United States
CATEGORIES:RCCG Event
ATTACH;FMTTYPE=image/jpeg:https://rccgrc.org/wp-content/uploads/2025/03/rc-seat.jpg
ORGANIZER;CN="Abby Daramola":MAILTO:info@rccgrc.org
END:VEVENT
BEGIN:VEVENT
DTSTART;TZID=UTC:20281025T193000
DTEND;TZID=UTC:20281025T203000
DTSTAMP:20260422T224142
CREATED:20260419T133031Z
LAST-MODIFIED:20260419T133033Z
UID:10005743-1856115000-1856118600@rccgrc.org
SUMMARY:Revealed || Discovering Treasures in God's Word | Wednesdays | 7:30pm
DESCRIPTION:
URL:https://rccgrc.org/event/revealed-4-2/2028-10-25/
LOCATION:RCCG\, RCCG Restoration Church 5600 Sunnyside Avenue\, Beltsville\, MD\, 20705\, United States
CATEGORIES:RCCG Event
ATTACH;FMTTYPE=image/jpeg:https://rccgrc.org/wp-content/uploads/2026/03/revealed_shift-e1776605380651.jpg
ORGANIZER;CN="Abby Daramola":MAILTO:info@rccgrc.org
END:VEVENT
BEGIN:VEVENT
DTSTART;TZID=UTC:20281027T193000
DTEND;TZID=UTC:20281027T203000
DTSTAMP:20260422T224142
CREATED:20260223T013851Z
LAST-MODIFIED:20260313T153704Z
UID:10005571-1856287800-1856291400@rccgrc.org
SUMMARY:Teens Bible Study | Emerge | Every other Friday | 7:30pm
DESCRIPTION:
URL:https://rccgrc.org/event/teens-bible-study-emerge-every-other-friday-730pm-2-2/2028-10-27/
LOCATION:Zoom
CATEGORIES:RCCG Event
ATTACH;FMTTYPE=image/jpeg:https://rccgrc.org/wp-content/uploads/2026/02/WhatsApp-Image-2026-02-12-at-7.58.34-AM.jpeg
ORGANIZER;CN="Abby Daramola":MAILTO:info@rccgrc.org
END:VEVENT
BEGIN:VEVENT
DTSTART;TZID=America/New_York:20281029T090000
DTEND;TZID=America/New_York:20281029T100000
DTSTAMP:20260422T224142
CREATED:20240712T125010Z
LAST-MODIFIED:20260201T194813Z
UID:10000360-1856422800-1856426400@rccgrc.org
SUMMARY:Morning Dew
DESCRIPTION:
URL:https://rccgrc.org/event/morning-dew/2028-10-29/
LOCATION:RCCG\, RCCG Restoration Church 5600 Sunnyside Avenue\, Beltsville\, MD\, 20705\, United States
ATTACH;FMTTYPE=image/jpeg:https://rccgrc.org/wp-content/uploads/2024/07/rc-morning-26.jpg.jpeg
END:VEVENT
BEGIN:VEVENT
DTSTART;TZID=UTC:20281029T100000
DTEND;TZID=UTC:20281029T123000
DTSTAMP:20260422T224142
CREATED:20250318T002302Z
LAST-MODIFIED:20250719T231504Z
UID:10002531-1856426400-1856435400@rccgrc.org
SUMMARY:This is Home | We saving a seat just for YOU!
DESCRIPTION:
URL:https://rccgrc.org/event/this-is-home-we-saving-a-seat-just-for-you/2028-10-29/
LOCATION:RCCG\, RCCG Restoration Church 5600 Sunnyside Avenue\, Beltsville\, MD\, 20705\, United States
CATEGORIES:RCCG Event
ATTACH;FMTTYPE=image/jpeg:https://rccgrc.org/wp-content/uploads/2025/03/rc-seat.jpg
ORGANIZER;CN="Abby Daramola":MAILTO:info@rccgrc.org
END:VEVENT
BEGIN:VEVENT
DTSTART;TZID=UTC:20281101T193000
DTEND;TZID=UTC:20281101T203000
DTSTAMP:20260422T224142
CREATED:20260419T133031Z
LAST-MODIFIED:20260419T133033Z
UID:10005744-1856719800-1856723400@rccgrc.org
SUMMARY:Revealed || Discovering Treasures in God's Word | Wednesdays | 7:30pm
DESCRIPTION:
URL:https://rccgrc.org/event/revealed-4-2/2028-11-01/
LOCATION:RCCG\, RCCG Restoration Church 5600 Sunnyside Avenue\, Beltsville\, MD\, 20705\, United States
CATEGORIES:RCCG Event
ATTACH;FMTTYPE=image/jpeg:https://rccgrc.org/wp-content/uploads/2026/03/revealed_shift-e1776605380651.jpg
ORGANIZER;CN="Abby Daramola":MAILTO:info@rccgrc.org
END:VEVENT
BEGIN:VEVENT
DTSTART;TZID=America/New_York:20281104T090000
DTEND;TZID=America/New_York:20281104T093000
DTSTAMP:20260422T224142
CREATED:20240712T130707Z
LAST-MODIFIED:20260223T013312Z
UID:10005344-1856941200-1856943000@rccgrc.org
SUMMARY:Recharge; RC Youth and Young Adult
DESCRIPTION:
URL:https://rccgrc.org/event/recharge-rc-youth-and-young-adult/2028-11-04/
LOCATION:RCCG\, RCCG Restoration Church 5600 Sunnyside Avenue\, Beltsville\, MD\, 20705\, United States
ATTACH;FMTTYPE=image/jpeg:https://rccgrc.org/wp-content/uploads/2024/07/RC-RECHARGE-26.jpg.jpeg
END:VEVENT
BEGIN:VEVENT
DTSTART;TZID=UTC:20281105T100000
DTEND;TZID=UTC:20281105T123000
DTSTAMP:20260422T224142
CREATED:20250318T002302Z
LAST-MODIFIED:20250719T231504Z
UID:10002532-1857031200-1857040200@rccgrc.org
SUMMARY:This is Home | We saving a seat just for YOU!
DESCRIPTION:
URL:https://rccgrc.org/event/this-is-home-we-saving-a-seat-just-for-you/2028-11-05/
LOCATION:RCCG\, RCCG Restoration Church 5600 Sunnyside Avenue\, Beltsville\, MD\, 20705\, United States
CATEGORIES:RCCG Event
ATTACH;FMTTYPE=image/jpeg:https://rccgrc.org/wp-content/uploads/2025/03/rc-seat.jpg
ORGANIZER;CN="Abby Daramola":MAILTO:info@rccgrc.org
END:VEVENT
BEGIN:VEVENT
DTSTART;TZID=UTC:20281108T193000
DTEND;TZID=UTC:20281108T203000
DTSTAMP:20260422T224142
CREATED:20260419T133031Z
LAST-MODIFIED:20260419T133033Z
UID:10005745-1857324600-1857328200@rccgrc.org
SUMMARY:Revealed || Discovering Treasures in God's Word | Wednesdays | 7:30pm
DESCRIPTION:
URL:https://rccgrc.org/event/revealed-4-2/2028-11-08/
LOCATION:RCCG\, RCCG Restoration Church 5600 Sunnyside Avenue\, Beltsville\, MD\, 20705\, United States
CATEGORIES:RCCG Event
ATTACH;FMTTYPE=image/jpeg:https://rccgrc.org/wp-content/uploads/2026/03/revealed_shift-e1776605380651.jpg
ORGANIZER;CN="Abby Daramola":MAILTO:info@rccgrc.org
END:VEVENT
BEGIN:VEVENT
DTSTART;TZID=UTC:20281110T193000
DTEND;TZID=UTC:20281110T203000
DTSTAMP:20260422T224142
CREATED:20260223T013851Z
LAST-MODIFIED:20260313T153704Z
UID:10005572-1857497400-1857501000@rccgrc.org
SUMMARY:Teens Bible Study | Emerge | Every other Friday | 7:30pm
DESCRIPTION:
URL:https://rccgrc.org/event/teens-bible-study-emerge-every-other-friday-730pm-2-2/2028-11-10/
LOCATION:Zoom
CATEGORIES:RCCG Event
ATTACH;FMTTYPE=image/jpeg:https://rccgrc.org/wp-content/uploads/2026/02/WhatsApp-Image-2026-02-12-at-7.58.34-AM.jpeg
ORGANIZER;CN="Abby Daramola":MAILTO:info@rccgrc.org
END:VEVENT
BEGIN:VEVENT
DTSTART;TZID=America/New_York:20281111T080000
DTEND;TZID=America/New_York:20281111T090000
DTSTAMP:20260422T224142
CREATED:20240712T125542Z
LAST-MODIFIED:20250719T231303Z
UID:10000439-1857542400-1857546000@rccgrc.org
SUMMARY:Wise Men Prayers
DESCRIPTION:
URL:https://rccgrc.org/event/wise-men-prayers/2028-11-11/
LOCATION:RCCG\, RCCG Restoration Church 5600 Sunnyside Avenue\, Beltsville\, MD\, 20705\, United States
CATEGORIES:RCCG Event
ATTACH;FMTTYPE=image/jpeg:https://rccgrc.org/wp-content/uploads/2024/07/rc-wm.jpg
END:VEVENT
BEGIN:VEVENT
DTSTART;TZID=America/New_York:20281112T090000
DTEND;TZID=America/New_York:20281112T100000
DTSTAMP:20260422T224142
CREATED:20240712T125010Z
LAST-MODIFIED:20260201T194813Z
UID:10000361-1857632400-1857636000@rccgrc.org
SUMMARY:Morning Dew
DESCRIPTION:
URL:https://rccgrc.org/event/morning-dew/2028-11-12/
LOCATION:RCCG\, RCCG Restoration Church 5600 Sunnyside Avenue\, Beltsville\, MD\, 20705\, United States
ATTACH;FMTTYPE=image/jpeg:https://rccgrc.org/wp-content/uploads/2024/07/rc-morning-26.jpg.jpeg
END:VEVENT
BEGIN:VEVENT
DTSTART;TZID=UTC:20281112T100000
DTEND;TZID=UTC:20281112T123000
DTSTAMP:20260422T224142
CREATED:20250318T002302Z
LAST-MODIFIED:20250719T231504Z
UID:10002533-1857636000-1857645000@rccgrc.org
SUMMARY:This is Home | We saving a seat just for YOU!
DESCRIPTION:
URL:https://rccgrc.org/event/this-is-home-we-saving-a-seat-just-for-you/2028-11-12/
LOCATION:RCCG\, RCCG Restoration Church 5600 Sunnyside Avenue\, Beltsville\, MD\, 20705\, United States
CATEGORIES:RCCG Event
ATTACH;FMTTYPE=image/jpeg:https://rccgrc.org/wp-content/uploads/2025/03/rc-seat.jpg
ORGANIZER;CN="Abby Daramola":MAILTO:info@rccgrc.org
END:VEVENT
BEGIN:VEVENT
DTSTART;TZID=UTC:20281115T193000
DTEND;TZID=UTC:20281115T203000
DTSTAMP:20260422T224142
CREATED:20260419T133031Z
LAST-MODIFIED:20260419T133033Z
UID:10005746-1857929400-1857933000@rccgrc.org
SUMMARY:Revealed || Discovering Treasures in God's Word | Wednesdays | 7:30pm
DESCRIPTION:
URL:https://rccgrc.org/event/revealed-4-2/2028-11-15/
LOCATION:RCCG\, RCCG Restoration Church 5600 Sunnyside Avenue\, Beltsville\, MD\, 20705\, United States
CATEGORIES:RCCG Event
ATTACH;FMTTYPE=image/jpeg:https://rccgrc.org/wp-content/uploads/2026/03/revealed_shift-e1776605380651.jpg
ORGANIZER;CN="Abby Daramola":MAILTO:info@rccgrc.org
END:VEVENT
BEGIN:VEVENT
DTSTART;TZID=UTC:20281117T190000
DTEND;TZID=UTC:20281117T200000
DTSTAMP:20260422T224142
CREATED:20260212T184752Z
LAST-MODIFIED:20260212T190150Z
UID:10004786-1858100400-1858104000@rccgrc.org
SUMMARY:RISE Young Adult Bible Study | Third Fridays | 7pm
DESCRIPTION:
URL:https://rccgrc.org/event/rise-young-adult-bible-hangout-third-fridays-7pm/2028-11-17/
LOCATION:Zoom
CATEGORIES:RCCG Event
ATTACH;FMTTYPE=image/jpeg:https://rccgrc.org/wp-content/uploads/2026/02/rc-rise-bible-hangout.jpg.jpeg
ORGANIZER;CN="Abby Daramola":MAILTO:info@rccgrc.org
END:VEVENT
BEGIN:VEVENT
DTSTART;TZID=UTC:20281118T060000
DTEND;TZID=UTC:20281118T073000
DTSTAMP:20260422T224142
CREATED:20240710T162539Z
LAST-MODIFIED:20250719T161948Z
UID:10000180-1858140000-1858145400@rccgrc.org
SUMMARY:Winning Women Prayers
DESCRIPTION:
URL:https://rccgrc.org/event/winning-women-prayers/2028-11-18/
LOCATION:RCCG\, RCCG Restoration Church 5600 Sunnyside Avenue\, Beltsville\, MD\, 20705\, United States
CATEGORIES:RCCG Event
ATTACH;FMTTYPE=image/png:https://rccgrc.org/wp-content/uploads/2024/07/winning_women.png
END:VEVENT
BEGIN:VEVENT
DTSTART;TZID=America/New_York:20281118T180000
DTEND;TZID=America/New_York:20281118T190000
DTSTAMP:20260422T224142
CREATED:20240712T130305Z
LAST-MODIFIED:20250421T215309Z
UID:10000121-1858183200-1858186800@rccgrc.org
SUMMARY:Grace Fellowship Monthly Prayers
DESCRIPTION:
URL:https://rccgrc.org/event/grace-fellowship-monthly-prayers/2028-11-18/
LOCATION:RCCG\, RCCG Restoration Church 5600 Sunnyside Avenue\, Beltsville\, MD\, 20705\, United States
ATTACH;FMTTYPE=image/jpeg:https://rccgrc.org/wp-content/uploads/2024/07/grace-fellowship-1.jpeg
END:VEVENT
BEGIN:VEVENT
DTSTART;TZID=America/New_York:20281119T090000
DTEND;TZID=America/New_York:20281119T100000
DTSTAMP:20260422T224142
CREATED:20240712T125010Z
LAST-MODIFIED:20260201T194813Z
UID:10000362-1858237200-1858240800@rccgrc.org
SUMMARY:Morning Dew
DESCRIPTION:
URL:https://rccgrc.org/event/morning-dew/2028-11-19/
LOCATION:RCCG\, RCCG Restoration Church 5600 Sunnyside Avenue\, Beltsville\, MD\, 20705\, United States
ATTACH;FMTTYPE=image/jpeg:https://rccgrc.org/wp-content/uploads/2024/07/rc-morning-26.jpg.jpeg
END:VEVENT
BEGIN:VEVENT
DTSTART;TZID=UTC:20281119T100000
DTEND;TZID=UTC:20281119T123000
DTSTAMP:20260422T224142
CREATED:20250318T002302Z
LAST-MODIFIED:20250719T231504Z
UID:10002534-1858240800-1858249800@rccgrc.org
SUMMARY:This is Home | We saving a seat just for YOU!
DESCRIPTION:
URL:https://rccgrc.org/event/this-is-home-we-saving-a-seat-just-for-you/2028-11-19/
LOCATION:RCCG\, RCCG Restoration Church 5600 Sunnyside Avenue\, Beltsville\, MD\, 20705\, United States
CATEGORIES:RCCG Event
ATTACH;FMTTYPE=image/jpeg:https://rccgrc.org/wp-content/uploads/2025/03/rc-seat.jpg
ORGANIZER;CN="Abby Daramola":MAILTO:info@rccgrc.org
END:VEVENT
BEGIN:VEVENT
DTSTART;TZID=UTC:20281122T193000
DTEND;TZID=UTC:20281122T203000
DTSTAMP:20260422T224142
CREATED:20260419T133031Z
LAST-MODIFIED:20260419T133033Z
UID:10005747-1858534200-1858537800@rccgrc.org
SUMMARY:Revealed || Discovering Treasures in God's Word | Wednesdays | 7:30pm
DESCRIPTION:
URL:https://rccgrc.org/event/revealed-4-2/2028-11-22/
LOCATION:RCCG\, RCCG Restoration Church 5600 Sunnyside Avenue\, Beltsville\, MD\, 20705\, United States
CATEGORIES:RCCG Event
ATTACH;FMTTYPE=image/jpeg:https://rccgrc.org/wp-content/uploads/2026/03/revealed_shift-e1776605380651.jpg
ORGANIZER;CN="Abby Daramola":MAILTO:info@rccgrc.org
END:VEVENT
BEGIN:VEVENT
DTSTART;TZID=UTC:20281124T193000
DTEND;TZID=UTC:20281124T203000
DTSTAMP:20260422T224142
CREATED:20260223T013851Z
LAST-MODIFIED:20260313T153704Z
UID:10005485-1858707000-1858710600@rccgrc.org
SUMMARY:Teens Bible Study | Emerge | Every other Friday | 7:30pm
DESCRIPTION:
URL:https://rccgrc.org/event/teens-bible-study-emerge-every-other-friday-730pm-2-2/2028-11-24/
LOCATION:Zoom
CATEGORIES:RCCG Event
ATTACH;FMTTYPE=image/jpeg:https://rccgrc.org/wp-content/uploads/2026/02/WhatsApp-Image-2026-02-12-at-7.58.34-AM.jpeg
ORGANIZER;CN="Abby Daramola":MAILTO:info@rccgrc.org
END:VEVENT
BEGIN:VEVENT
DTSTART;TZID=America/New_York:20281126T090000
DTEND;TZID=America/New_York:20281126T100000
DTSTAMP:20260422T224142
CREATED:20240712T125010Z
LAST-MODIFIED:20260201T194813Z
UID:10000363-1858842000-1858845600@rccgrc.org
SUMMARY:Morning Dew
DESCRIPTION:
URL:https://rccgrc.org/event/morning-dew/2028-11-26/
LOCATION:RCCG\, RCCG Restoration Church 5600 Sunnyside Avenue\, Beltsville\, MD\, 20705\, United States
ATTACH;FMTTYPE=image/jpeg:https://rccgrc.org/wp-content/uploads/2024/07/rc-morning-26.jpg.jpeg
END:VEVENT
BEGIN:VEVENT
DTSTART;TZID=UTC:20281126T100000
DTEND;TZID=UTC:20281126T123000
DTSTAMP:20260422T224142
CREATED:20250318T002302Z
LAST-MODIFIED:20250719T231504Z
UID:10002535-1858845600-1858854600@rccgrc.org
SUMMARY:This is Home | We saving a seat just for YOU!
DESCRIPTION:
URL:https://rccgrc.org/event/this-is-home-we-saving-a-seat-just-for-you/2028-11-26/
LOCATION:RCCG\, RCCG Restoration Church 5600 Sunnyside Avenue\, Beltsville\, MD\, 20705\, United States
CATEGORIES:RCCG Event
ATTACH;FMTTYPE=image/jpeg:https://rccgrc.org/wp-content/uploads/2025/03/rc-seat.jpg
ORGANIZER;CN="Abby Daramola":MAILTO:info@rccgrc.org
END:VEVENT
BEGIN:VEVENT
DTSTART;TZID=UTC:20281129T193000
DTEND;TZID=UTC:20281129T203000
DTSTAMP:20260422T224142
CREATED:20260419T133031Z
LAST-MODIFIED:20260419T133033Z
UID:10005748-1859139000-1859142600@rccgrc.org
SUMMARY:Revealed || Discovering Treasures in God's Word | Wednesdays | 7:30pm
DESCRIPTION:
URL:https://rccgrc.org/event/revealed-4-2/2028-11-29/
LOCATION:RCCG\, RCCG Restoration Church 5600 Sunnyside Avenue\, Beltsville\, MD\, 20705\, United States
CATEGORIES:RCCG Event
ATTACH;FMTTYPE=image/jpeg:https://rccgrc.org/wp-content/uploads/2026/03/revealed_shift-e1776605380651.jpg
ORGANIZER;CN="Abby Daramola":MAILTO:info@rccgrc.org
END:VEVENT
BEGIN:VEVENT
DTSTART;TZID=America/New_York:20281202T090000
DTEND;TZID=America/New_York:20281202T093000
DTSTAMP:20260422T224142
CREATED:20240712T130707Z
LAST-MODIFIED:20260223T013312Z
UID:10005345-1859360400-1859362200@rccgrc.org
SUMMARY:Recharge; RC Youth and Young Adult
DESCRIPTION:
URL:https://rccgrc.org/event/recharge-rc-youth-and-young-adult/2028-12-02/
LOCATION:RCCG\, RCCG Restoration Church 5600 Sunnyside Avenue\, Beltsville\, MD\, 20705\, United States
ATTACH;FMTTYPE=image/jpeg:https://rccgrc.org/wp-content/uploads/2024/07/RC-RECHARGE-26.jpg.jpeg
END:VEVENT
BEGIN:VEVENT
DTSTART;TZID=UTC:20281203T100000
DTEND;TZID=UTC:20281203T123000
DTSTAMP:20260422T224142
CREATED:20250318T002302Z
LAST-MODIFIED:20250719T231504Z
UID:10002536-1859450400-1859459400@rccgrc.org
SUMMARY:This is Home | We saving a seat just for YOU!
DESCRIPTION:
URL:https://rccgrc.org/event/this-is-home-we-saving-a-seat-just-for-you/2028-12-03/
LOCATION:RCCG\, RCCG Restoration Church 5600 Sunnyside Avenue\, Beltsville\, MD\, 20705\, United States
CATEGORIES:RCCG Event
ATTACH;FMTTYPE=image/jpeg:https://rccgrc.org/wp-content/uploads/2025/03/rc-seat.jpg
ORGANIZER;CN="Abby Daramola":MAILTO:info@rccgrc.org
END:VEVENT
BEGIN:VEVENT
DTSTART;TZID=UTC:20281206T193000
DTEND;TZID=UTC:20281206T203000
DTSTAMP:20260422T224142
CREATED:20260419T133031Z
LAST-MODIFIED:20260419T133033Z
UID:10005749-1859743800-1859747400@rccgrc.org
SUMMARY:Revealed || Discovering Treasures in God's Word | Wednesdays | 7:30pm
DESCRIPTION:
URL:https://rccgrc.org/event/revealed-4-2/2028-12-06/
LOCATION:RCCG\, RCCG Restoration Church 5600 Sunnyside Avenue\, Beltsville\, MD\, 20705\, United States
CATEGORIES:RCCG Event
ATTACH;FMTTYPE=image/jpeg:https://rccgrc.org/wp-content/uploads/2026/03/revealed_shift-e1776605380651.jpg
ORGANIZER;CN="Abby Daramola":MAILTO:info@rccgrc.org
END:VEVENT
END:VCALENDAR