BEGIN:VCALENDAR
VERSION:2.0
PRODID:-//RCCG Restoration Church - ECPv6.15.20//NONSGML v1.0//EN
CALSCALE:GREGORIAN
METHOD:PUBLISH
X-WR-CALNAME:RCCG Restoration Church
X-ORIGINAL-URL:https://rccgrc.org
X-WR-CALDESC:Events for RCCG Restoration Church
REFRESH-INTERVAL;VALUE=DURATION:PT1H
X-Robots-Tag:noindex
X-PUBLISHED-TTL:PT1H
BEGIN:VTIMEZONE
TZID:UTC
BEGIN:STANDARD
TZOFFSETFROM:+0000
TZOFFSETTO:+0000
TZNAME:UTC
DTSTART:20260101T000000
END:STANDARD
END:VTIMEZONE
BEGIN:VTIMEZONE
TZID:America/New_York
BEGIN:DAYLIGHT
TZOFFSETFROM:-0500
TZOFFSETTO:-0400
TZNAME:EDT
DTSTART:20260308T070000
END:DAYLIGHT
BEGIN:STANDARD
TZOFFSETFROM:-0400
TZOFFSETTO:-0500
TZNAME:EST
DTSTART:20261101T060000
END:STANDARD
BEGIN:DAYLIGHT
TZOFFSETFROM:-0500
TZOFFSETTO:-0400
TZNAME:EDT
DTSTART:20270314T070000
END:DAYLIGHT
BEGIN:STANDARD
TZOFFSETFROM:-0400
TZOFFSETTO:-0500
TZNAME:EST
DTSTART:20271107T060000
END:STANDARD
BEGIN:DAYLIGHT
TZOFFSETFROM:-0500
TZOFFSETTO:-0400
TZNAME:EDT
DTSTART:20280312T070000
END:DAYLIGHT
BEGIN:STANDARD
TZOFFSETFROM:-0400
TZOFFSETTO:-0500
TZNAME:EST
DTSTART:20281105T060000
END:STANDARD
END:VTIMEZONE
BEGIN:VEVENT
DTSTART;TZID=UTC:20270625T193000
DTEND;TZID=UTC:20270625T203000
DTSTAMP:20260420T235644
CREATED:20260223T013851Z
LAST-MODIFIED:20260313T153704Z
UID:10005548-1813951800-1813955400@rccgrc.org
SUMMARY:Teens Bible Study | Emerge | Every other Friday | 7:30pm
DESCRIPTION:
URL:https://rccgrc.org/event/teens-bible-study-emerge-every-other-friday-730pm-2-2/2027-06-25/
LOCATION:Zoom
CATEGORIES:RCCG Event
ATTACH;FMTTYPE=image/jpeg:https://rccgrc.org/wp-content/uploads/2026/02/WhatsApp-Image-2026-02-12-at-7.58.34-AM.jpeg
ORGANIZER;CN="Abby Daramola":MAILTO:info@rccgrc.org
END:VEVENT
BEGIN:VEVENT
DTSTART;TZID=America/New_York:20270627T090000
DTEND;TZID=America/New_York:20270627T100000
DTSTAMP:20260420T235644
CREATED:20240712T125010Z
LAST-MODIFIED:20260201T194813Z
UID:10000306-1814086800-1814090400@rccgrc.org
SUMMARY:Morning Dew
DESCRIPTION:
URL:https://rccgrc.org/event/morning-dew/2027-06-27/
LOCATION:RCCG\, RCCG Restoration Church 5600 Sunnyside Avenue\, Beltsville\, MD\, 20705\, United States
ATTACH;FMTTYPE=image/jpeg:https://rccgrc.org/wp-content/uploads/2024/07/rc-morning-26.jpg.jpeg
END:VEVENT
BEGIN:VEVENT
DTSTART;TZID=UTC:20270627T100000
DTEND;TZID=UTC:20270627T123000
DTSTAMP:20260420T235644
CREATED:20250318T002302Z
LAST-MODIFIED:20250719T231504Z
UID:10002461-1814090400-1814099400@rccgrc.org
SUMMARY:This is Home | We saving a seat just for YOU!
DESCRIPTION:
URL:https://rccgrc.org/event/this-is-home-we-saving-a-seat-just-for-you/2027-06-27/
LOCATION:RCCG\, RCCG Restoration Church 5600 Sunnyside Avenue\, Beltsville\, MD\, 20705\, United States
CATEGORIES:RCCG Event
ATTACH;FMTTYPE=image/jpeg:https://rccgrc.org/wp-content/uploads/2025/03/rc-seat.jpg
ORGANIZER;CN="Abby Daramola":MAILTO:info@rccgrc.org
END:VEVENT
BEGIN:VEVENT
DTSTART;TZID=UTC:20270630T193000
DTEND;TZID=UTC:20270630T203000
DTSTAMP:20260420T235644
CREATED:20260419T133031Z
LAST-MODIFIED:20260419T133033Z
UID:10005674-1814383800-1814387400@rccgrc.org
SUMMARY:Revealed || Discovering Treasures in God's Word | Wednesdays | 7:30pm
DESCRIPTION:
URL:https://rccgrc.org/event/revealed-4-2/2027-06-30/
LOCATION:RCCG\, RCCG Restoration Church 5600 Sunnyside Avenue\, Beltsville\, MD\, 20705\, United States
CATEGORIES:RCCG Event
ATTACH;FMTTYPE=image/jpeg:https://rccgrc.org/wp-content/uploads/2026/03/revealed_shift-e1776605380651.jpg
ORGANIZER;CN="Abby Daramola":MAILTO:info@rccgrc.org
END:VEVENT
BEGIN:VEVENT
DTSTART;TZID=America/New_York:20270703T090000
DTEND;TZID=America/New_York:20270703T093000
DTSTAMP:20260420T235644
CREATED:20240712T130707Z
LAST-MODIFIED:20260223T013312Z
UID:10005328-1814605200-1814607000@rccgrc.org
SUMMARY:Recharge; RC Youth and Young Adult
DESCRIPTION:
URL:https://rccgrc.org/event/recharge-rc-youth-and-young-adult/2027-07-03/
LOCATION:RCCG\, RCCG Restoration Church 5600 Sunnyside Avenue\, Beltsville\, MD\, 20705\, United States
ATTACH;FMTTYPE=image/jpeg:https://rccgrc.org/wp-content/uploads/2024/07/RC-RECHARGE-26.jpg.jpeg
END:VEVENT
BEGIN:VEVENT
DTSTART;TZID=UTC:20270704T100000
DTEND;TZID=UTC:20270704T123000
DTSTAMP:20260420T235644
CREATED:20250318T002302Z
LAST-MODIFIED:20250719T231504Z
UID:10002462-1814695200-1814704200@rccgrc.org
SUMMARY:This is Home | We saving a seat just for YOU!
DESCRIPTION:
URL:https://rccgrc.org/event/this-is-home-we-saving-a-seat-just-for-you/2027-07-04/
LOCATION:RCCG\, RCCG Restoration Church 5600 Sunnyside Avenue\, Beltsville\, MD\, 20705\, United States
CATEGORIES:RCCG Event
ATTACH;FMTTYPE=image/jpeg:https://rccgrc.org/wp-content/uploads/2025/03/rc-seat.jpg
ORGANIZER;CN="Abby Daramola":MAILTO:info@rccgrc.org
END:VEVENT
BEGIN:VEVENT
DTSTART;TZID=UTC:20270707T193000
DTEND;TZID=UTC:20270707T203000
DTSTAMP:20260420T235644
CREATED:20260419T133031Z
LAST-MODIFIED:20260419T133033Z
UID:10005675-1814988600-1814992200@rccgrc.org
SUMMARY:Revealed || Discovering Treasures in God's Word | Wednesdays | 7:30pm
DESCRIPTION:
URL:https://rccgrc.org/event/revealed-4-2/2027-07-07/
LOCATION:RCCG\, RCCG Restoration Church 5600 Sunnyside Avenue\, Beltsville\, MD\, 20705\, United States
CATEGORIES:RCCG Event
ATTACH;FMTTYPE=image/jpeg:https://rccgrc.org/wp-content/uploads/2026/03/revealed_shift-e1776605380651.jpg
ORGANIZER;CN="Abby Daramola":MAILTO:info@rccgrc.org
END:VEVENT
BEGIN:VEVENT
DTSTART;TZID=UTC:20270709T193000
DTEND;TZID=UTC:20270709T203000
DTSTAMP:20260420T235644
CREATED:20260223T013851Z
LAST-MODIFIED:20260313T153704Z
UID:10005461-1815161400-1815165000@rccgrc.org
SUMMARY:Teens Bible Study | Emerge | Every other Friday | 7:30pm
DESCRIPTION:
URL:https://rccgrc.org/event/teens-bible-study-emerge-every-other-friday-730pm-2-2/2027-07-09/
LOCATION:Zoom
CATEGORIES:RCCG Event
ATTACH;FMTTYPE=image/jpeg:https://rccgrc.org/wp-content/uploads/2026/02/WhatsApp-Image-2026-02-12-at-7.58.34-AM.jpeg
ORGANIZER;CN="Abby Daramola":MAILTO:info@rccgrc.org
END:VEVENT
BEGIN:VEVENT
DTSTART;TZID=America/New_York:20270710T080000
DTEND;TZID=America/New_York:20270710T090000
DTSTAMP:20260420T235644
CREATED:20240712T125542Z
LAST-MODIFIED:20250719T231303Z
UID:10000423-1815206400-1815210000@rccgrc.org
SUMMARY:Wise Men Prayers
DESCRIPTION:
URL:https://rccgrc.org/event/wise-men-prayers/2027-07-10/
LOCATION:RCCG\, RCCG Restoration Church 5600 Sunnyside Avenue\, Beltsville\, MD\, 20705\, United States
CATEGORIES:RCCG Event
ATTACH;FMTTYPE=image/jpeg:https://rccgrc.org/wp-content/uploads/2024/07/rc-wm.jpg
END:VEVENT
BEGIN:VEVENT
DTSTART;TZID=America/New_York:20270711T090000
DTEND;TZID=America/New_York:20270711T100000
DTSTAMP:20260420T235644
CREATED:20240712T125010Z
LAST-MODIFIED:20260201T194813Z
UID:10000307-1815296400-1815300000@rccgrc.org
SUMMARY:Morning Dew
DESCRIPTION:
URL:https://rccgrc.org/event/morning-dew/2027-07-11/
LOCATION:RCCG\, RCCG Restoration Church 5600 Sunnyside Avenue\, Beltsville\, MD\, 20705\, United States
ATTACH;FMTTYPE=image/jpeg:https://rccgrc.org/wp-content/uploads/2024/07/rc-morning-26.jpg.jpeg
END:VEVENT
BEGIN:VEVENT
DTSTART;TZID=UTC:20270711T100000
DTEND;TZID=UTC:20270711T123000
DTSTAMP:20260420T235644
CREATED:20250318T002302Z
LAST-MODIFIED:20250719T231504Z
UID:10002463-1815300000-1815309000@rccgrc.org
SUMMARY:This is Home | We saving a seat just for YOU!
DESCRIPTION:
URL:https://rccgrc.org/event/this-is-home-we-saving-a-seat-just-for-you/2027-07-11/
LOCATION:RCCG\, RCCG Restoration Church 5600 Sunnyside Avenue\, Beltsville\, MD\, 20705\, United States
CATEGORIES:RCCG Event
ATTACH;FMTTYPE=image/jpeg:https://rccgrc.org/wp-content/uploads/2025/03/rc-seat.jpg
ORGANIZER;CN="Abby Daramola":MAILTO:info@rccgrc.org
END:VEVENT
BEGIN:VEVENT
DTSTART;TZID=UTC:20270714T193000
DTEND;TZID=UTC:20270714T203000
DTSTAMP:20260420T235644
CREATED:20260419T133031Z
LAST-MODIFIED:20260419T133033Z
UID:10005676-1815593400-1815597000@rccgrc.org
SUMMARY:Revealed || Discovering Treasures in God's Word | Wednesdays | 7:30pm
DESCRIPTION:
URL:https://rccgrc.org/event/revealed-4-2/2027-07-14/
LOCATION:RCCG\, RCCG Restoration Church 5600 Sunnyside Avenue\, Beltsville\, MD\, 20705\, United States
CATEGORIES:RCCG Event
ATTACH;FMTTYPE=image/jpeg:https://rccgrc.org/wp-content/uploads/2026/03/revealed_shift-e1776605380651.jpg
ORGANIZER;CN="Abby Daramola":MAILTO:info@rccgrc.org
END:VEVENT
BEGIN:VEVENT
DTSTART;TZID=UTC:20270716T190000
DTEND;TZID=UTC:20270716T200000
DTSTAMP:20260420T235644
CREATED:20260212T184752Z
LAST-MODIFIED:20260212T190150Z
UID:10004716-1815764400-1815768000@rccgrc.org
SUMMARY:RISE Young Adult Bible Study | Third Fridays | 7pm
DESCRIPTION:
URL:https://rccgrc.org/event/rise-young-adult-bible-hangout-third-fridays-7pm/2027-07-16/
LOCATION:Zoom
CATEGORIES:RCCG Event
ATTACH;FMTTYPE=image/jpeg:https://rccgrc.org/wp-content/uploads/2026/02/rc-rise-bible-hangout.jpg.jpeg
ORGANIZER;CN="Abby Daramola":MAILTO:info@rccgrc.org
END:VEVENT
BEGIN:VEVENT
DTSTART;TZID=UTC:20270717T060000
DTEND;TZID=UTC:20270717T073000
DTSTAMP:20260420T235644
CREATED:20240710T162539Z
LAST-MODIFIED:20250719T161948Z
UID:10000164-1815804000-1815809400@rccgrc.org
SUMMARY:Winning Women Prayers
DESCRIPTION:
URL:https://rccgrc.org/event/winning-women-prayers/2027-07-17/
LOCATION:RCCG\, RCCG Restoration Church 5600 Sunnyside Avenue\, Beltsville\, MD\, 20705\, United States
CATEGORIES:RCCG Event
ATTACH;FMTTYPE=image/png:https://rccgrc.org/wp-content/uploads/2024/07/winning_women.png
END:VEVENT
BEGIN:VEVENT
DTSTART;TZID=America/New_York:20270717T180000
DTEND;TZID=America/New_York:20270717T190000
DTSTAMP:20260420T235644
CREATED:20240712T130305Z
LAST-MODIFIED:20250421T215309Z
UID:10000105-1815847200-1815850800@rccgrc.org
SUMMARY:Grace Fellowship Monthly Prayers
DESCRIPTION:
URL:https://rccgrc.org/event/grace-fellowship-monthly-prayers/2027-07-17/
LOCATION:RCCG\, RCCG Restoration Church 5600 Sunnyside Avenue\, Beltsville\, MD\, 20705\, United States
ATTACH;FMTTYPE=image/jpeg:https://rccgrc.org/wp-content/uploads/2024/07/grace-fellowship-1.jpeg
END:VEVENT
BEGIN:VEVENT
DTSTART;TZID=America/New_York:20270718T090000
DTEND;TZID=America/New_York:20270718T100000
DTSTAMP:20260420T235644
CREATED:20240712T125010Z
LAST-MODIFIED:20260201T194813Z
UID:10000308-1815901200-1815904800@rccgrc.org
SUMMARY:Morning Dew
DESCRIPTION:
URL:https://rccgrc.org/event/morning-dew/2027-07-18/
LOCATION:RCCG\, RCCG Restoration Church 5600 Sunnyside Avenue\, Beltsville\, MD\, 20705\, United States
ATTACH;FMTTYPE=image/jpeg:https://rccgrc.org/wp-content/uploads/2024/07/rc-morning-26.jpg.jpeg
END:VEVENT
BEGIN:VEVENT
DTSTART;TZID=UTC:20270718T100000
DTEND;TZID=UTC:20270718T123000
DTSTAMP:20260420T235644
CREATED:20250318T002302Z
LAST-MODIFIED:20250719T231504Z
UID:10002464-1815904800-1815913800@rccgrc.org
SUMMARY:This is Home | We saving a seat just for YOU!
DESCRIPTION:
URL:https://rccgrc.org/event/this-is-home-we-saving-a-seat-just-for-you/2027-07-18/
LOCATION:RCCG\, RCCG Restoration Church 5600 Sunnyside Avenue\, Beltsville\, MD\, 20705\, United States
CATEGORIES:RCCG Event
ATTACH;FMTTYPE=image/jpeg:https://rccgrc.org/wp-content/uploads/2025/03/rc-seat.jpg
ORGANIZER;CN="Abby Daramola":MAILTO:info@rccgrc.org
END:VEVENT
BEGIN:VEVENT
DTSTART;TZID=UTC:20270721T193000
DTEND;TZID=UTC:20270721T203000
DTSTAMP:20260420T235644
CREATED:20260419T133031Z
LAST-MODIFIED:20260419T133033Z
UID:10005677-1816198200-1816201800@rccgrc.org
SUMMARY:Revealed || Discovering Treasures in God's Word | Wednesdays | 7:30pm
DESCRIPTION:
URL:https://rccgrc.org/event/revealed-4-2/2027-07-21/
LOCATION:RCCG\, RCCG Restoration Church 5600 Sunnyside Avenue\, Beltsville\, MD\, 20705\, United States
CATEGORIES:RCCG Event
ATTACH;FMTTYPE=image/jpeg:https://rccgrc.org/wp-content/uploads/2026/03/revealed_shift-e1776605380651.jpg
ORGANIZER;CN="Abby Daramola":MAILTO:info@rccgrc.org
END:VEVENT
BEGIN:VEVENT
DTSTART;TZID=UTC:20270723T193000
DTEND;TZID=UTC:20270723T203000
DTSTAMP:20260420T235644
CREATED:20260223T013851Z
LAST-MODIFIED:20260313T153704Z
UID:10005549-1816371000-1816374600@rccgrc.org
SUMMARY:Teens Bible Study | Emerge | Every other Friday | 7:30pm
DESCRIPTION:
URL:https://rccgrc.org/event/teens-bible-study-emerge-every-other-friday-730pm-2-2/2027-07-23/
LOCATION:Zoom
CATEGORIES:RCCG Event
ATTACH;FMTTYPE=image/jpeg:https://rccgrc.org/wp-content/uploads/2026/02/WhatsApp-Image-2026-02-12-at-7.58.34-AM.jpeg
ORGANIZER;CN="Abby Daramola":MAILTO:info@rccgrc.org
END:VEVENT
BEGIN:VEVENT
DTSTART;TZID=America/New_York:20270725T090000
DTEND;TZID=America/New_York:20270725T100000
DTSTAMP:20260420T235644
CREATED:20240712T125010Z
LAST-MODIFIED:20260201T194813Z
UID:10000309-1816506000-1816509600@rccgrc.org
SUMMARY:Morning Dew
DESCRIPTION:
URL:https://rccgrc.org/event/morning-dew/2027-07-25/
LOCATION:RCCG\, RCCG Restoration Church 5600 Sunnyside Avenue\, Beltsville\, MD\, 20705\, United States
ATTACH;FMTTYPE=image/jpeg:https://rccgrc.org/wp-content/uploads/2024/07/rc-morning-26.jpg.jpeg
END:VEVENT
BEGIN:VEVENT
DTSTART;TZID=UTC:20270725T100000
DTEND;TZID=UTC:20270725T123000
DTSTAMP:20260420T235644
CREATED:20250318T002302Z
LAST-MODIFIED:20250719T231504Z
UID:10002465-1816509600-1816518600@rccgrc.org
SUMMARY:This is Home | We saving a seat just for YOU!
DESCRIPTION:
URL:https://rccgrc.org/event/this-is-home-we-saving-a-seat-just-for-you/2027-07-25/
LOCATION:RCCG\, RCCG Restoration Church 5600 Sunnyside Avenue\, Beltsville\, MD\, 20705\, United States
CATEGORIES:RCCG Event
ATTACH;FMTTYPE=image/jpeg:https://rccgrc.org/wp-content/uploads/2025/03/rc-seat.jpg
ORGANIZER;CN="Abby Daramola":MAILTO:info@rccgrc.org
END:VEVENT
BEGIN:VEVENT
DTSTART;TZID=UTC:20270728T193000
DTEND;TZID=UTC:20270728T203000
DTSTAMP:20260420T235644
CREATED:20260419T133031Z
LAST-MODIFIED:20260419T133033Z
UID:10005678-1816803000-1816806600@rccgrc.org
SUMMARY:Revealed || Discovering Treasures in God's Word | Wednesdays | 7:30pm
DESCRIPTION:
URL:https://rccgrc.org/event/revealed-4-2/2027-07-28/
LOCATION:RCCG\, RCCG Restoration Church 5600 Sunnyside Avenue\, Beltsville\, MD\, 20705\, United States
CATEGORIES:RCCG Event
ATTACH;FMTTYPE=image/jpeg:https://rccgrc.org/wp-content/uploads/2026/03/revealed_shift-e1776605380651.jpg
ORGANIZER;CN="Abby Daramola":MAILTO:info@rccgrc.org
END:VEVENT
BEGIN:VEVENT
DTSTART;TZID=UTC:20270801T100000
DTEND;TZID=UTC:20270801T123000
DTSTAMP:20260420T235644
CREATED:20250318T002302Z
LAST-MODIFIED:20250719T231504Z
UID:10002466-1817114400-1817123400@rccgrc.org
SUMMARY:This is Home | We saving a seat just for YOU!
DESCRIPTION:
URL:https://rccgrc.org/event/this-is-home-we-saving-a-seat-just-for-you/2027-08-01/
LOCATION:RCCG\, RCCG Restoration Church 5600 Sunnyside Avenue\, Beltsville\, MD\, 20705\, United States
CATEGORIES:RCCG Event
ATTACH;FMTTYPE=image/jpeg:https://rccgrc.org/wp-content/uploads/2025/03/rc-seat.jpg
ORGANIZER;CN="Abby Daramola":MAILTO:info@rccgrc.org
END:VEVENT
BEGIN:VEVENT
DTSTART;TZID=UTC:20270804T193000
DTEND;TZID=UTC:20270804T203000
DTSTAMP:20260420T235644
CREATED:20260419T133031Z
LAST-MODIFIED:20260419T133033Z
UID:10005679-1817407800-1817411400@rccgrc.org
SUMMARY:Revealed || Discovering Treasures in God's Word | Wednesdays | 7:30pm
DESCRIPTION:
URL:https://rccgrc.org/event/revealed-4-2/2027-08-04/
LOCATION:RCCG\, RCCG Restoration Church 5600 Sunnyside Avenue\, Beltsville\, MD\, 20705\, United States
CATEGORIES:RCCG Event
ATTACH;FMTTYPE=image/jpeg:https://rccgrc.org/wp-content/uploads/2026/03/revealed_shift-e1776605380651.jpg
ORGANIZER;CN="Abby Daramola":MAILTO:info@rccgrc.org
END:VEVENT
BEGIN:VEVENT
DTSTART;TZID=UTC:20270806T193000
DTEND;TZID=UTC:20270806T203000
DTSTAMP:20260420T235644
CREATED:20260223T013851Z
LAST-MODIFIED:20260313T153704Z
UID:10005550-1817580600-1817584200@rccgrc.org
SUMMARY:Teens Bible Study | Emerge | Every other Friday | 7:30pm
DESCRIPTION:
URL:https://rccgrc.org/event/teens-bible-study-emerge-every-other-friday-730pm-2-2/2027-08-06/
LOCATION:Zoom
CATEGORIES:RCCG Event
ATTACH;FMTTYPE=image/jpeg:https://rccgrc.org/wp-content/uploads/2026/02/WhatsApp-Image-2026-02-12-at-7.58.34-AM.jpeg
ORGANIZER;CN="Abby Daramola":MAILTO:info@rccgrc.org
END:VEVENT
BEGIN:VEVENT
DTSTART;TZID=America/New_York:20270807T090000
DTEND;TZID=America/New_York:20270807T093000
DTSTAMP:20260420T235644
CREATED:20240712T130707Z
LAST-MODIFIED:20260223T013312Z
UID:10005329-1817629200-1817631000@rccgrc.org
SUMMARY:Recharge; RC Youth and Young Adult
DESCRIPTION:
URL:https://rccgrc.org/event/recharge-rc-youth-and-young-adult/2027-08-07/
LOCATION:RCCG\, RCCG Restoration Church 5600 Sunnyside Avenue\, Beltsville\, MD\, 20705\, United States
ATTACH;FMTTYPE=image/jpeg:https://rccgrc.org/wp-content/uploads/2024/07/RC-RECHARGE-26.jpg.jpeg
END:VEVENT
BEGIN:VEVENT
DTSTART;TZID=America/New_York:20270808T090000
DTEND;TZID=America/New_York:20270808T100000
DTSTAMP:20260420T235644
CREATED:20240712T125010Z
LAST-MODIFIED:20260201T194813Z
UID:10000310-1817715600-1817719200@rccgrc.org
SUMMARY:Morning Dew
DESCRIPTION:
URL:https://rccgrc.org/event/morning-dew/2027-08-08/
LOCATION:RCCG\, RCCG Restoration Church 5600 Sunnyside Avenue\, Beltsville\, MD\, 20705\, United States
ATTACH;FMTTYPE=image/jpeg:https://rccgrc.org/wp-content/uploads/2024/07/rc-morning-26.jpg.jpeg
END:VEVENT
BEGIN:VEVENT
DTSTART;TZID=UTC:20270808T100000
DTEND;TZID=UTC:20270808T123000
DTSTAMP:20260420T235644
CREATED:20250318T002302Z
LAST-MODIFIED:20250719T231504Z
UID:10002467-1817719200-1817728200@rccgrc.org
SUMMARY:This is Home | We saving a seat just for YOU!
DESCRIPTION:
URL:https://rccgrc.org/event/this-is-home-we-saving-a-seat-just-for-you/2027-08-08/
LOCATION:RCCG\, RCCG Restoration Church 5600 Sunnyside Avenue\, Beltsville\, MD\, 20705\, United States
CATEGORIES:RCCG Event
ATTACH;FMTTYPE=image/jpeg:https://rccgrc.org/wp-content/uploads/2025/03/rc-seat.jpg
ORGANIZER;CN="Abby Daramola":MAILTO:info@rccgrc.org
END:VEVENT
BEGIN:VEVENT
DTSTART;TZID=UTC:20270811T193000
DTEND;TZID=UTC:20270811T203000
DTSTAMP:20260420T235644
CREATED:20260419T133031Z
LAST-MODIFIED:20260419T133033Z
UID:10005680-1818012600-1818016200@rccgrc.org
SUMMARY:Revealed || Discovering Treasures in God's Word | Wednesdays | 7:30pm
DESCRIPTION:
URL:https://rccgrc.org/event/revealed-4-2/2027-08-11/
LOCATION:RCCG\, RCCG Restoration Church 5600 Sunnyside Avenue\, Beltsville\, MD\, 20705\, United States
CATEGORIES:RCCG Event
ATTACH;FMTTYPE=image/jpeg:https://rccgrc.org/wp-content/uploads/2026/03/revealed_shift-e1776605380651.jpg
ORGANIZER;CN="Abby Daramola":MAILTO:info@rccgrc.org
END:VEVENT
BEGIN:VEVENT
DTSTART;TZID=America/New_York:20270814T080000
DTEND;TZID=America/New_York:20270814T090000
DTSTAMP:20260420T235644
CREATED:20240712T125542Z
LAST-MODIFIED:20250719T231303Z
UID:10000424-1818230400-1818234000@rccgrc.org
SUMMARY:Wise Men Prayers
DESCRIPTION:
URL:https://rccgrc.org/event/wise-men-prayers/2027-08-14/
LOCATION:RCCG\, RCCG Restoration Church 5600 Sunnyside Avenue\, Beltsville\, MD\, 20705\, United States
CATEGORIES:RCCG Event
ATTACH;FMTTYPE=image/jpeg:https://rccgrc.org/wp-content/uploads/2024/07/rc-wm.jpg
END:VEVENT
END:VCALENDAR