BEGIN:VCALENDAR
VERSION:2.0
PRODID:-//RCCG Restoration Church - ECPv6.15.20//NONSGML v1.0//EN
CALSCALE:GREGORIAN
METHOD:PUBLISH
X-WR-CALNAME:RCCG Restoration Church
X-ORIGINAL-URL:https://rccgrc.org
X-WR-CALDESC:Events for RCCG Restoration Church
REFRESH-INTERVAL;VALUE=DURATION:PT1H
X-Robots-Tag:noindex
X-PUBLISHED-TTL:PT1H
BEGIN:VTIMEZONE
TZID:America/New_York
BEGIN:DAYLIGHT
TZOFFSETFROM:-0500
TZOFFSETTO:-0400
TZNAME:EDT
DTSTART:20240310T070000
END:DAYLIGHT
BEGIN:STANDARD
TZOFFSETFROM:-0400
TZOFFSETTO:-0500
TZNAME:EST
DTSTART:20241103T060000
END:STANDARD
BEGIN:DAYLIGHT
TZOFFSETFROM:-0500
TZOFFSETTO:-0400
TZNAME:EDT
DTSTART:20250309T070000
END:DAYLIGHT
BEGIN:STANDARD
TZOFFSETFROM:-0400
TZOFFSETTO:-0500
TZNAME:EST
DTSTART:20251102T060000
END:STANDARD
BEGIN:DAYLIGHT
TZOFFSETFROM:-0500
TZOFFSETTO:-0400
TZNAME:EDT
DTSTART:20260308T070000
END:DAYLIGHT
BEGIN:STANDARD
TZOFFSETFROM:-0400
TZOFFSETTO:-0500
TZNAME:EST
DTSTART:20261101T060000
END:STANDARD
END:VTIMEZONE
BEGIN:VTIMEZONE
TZID:UTC
BEGIN:STANDARD
TZOFFSETFROM:+0000
TZOFFSETTO:+0000
TZNAME:UTC
DTSTART:20240101T000000
END:STANDARD
END:VTIMEZONE
BEGIN:VEVENT
DTSTART;TZID=America/New_York:20250427T090000
DTEND;TZID=America/New_York:20250427T100000
DTSTAMP:20260421T041957
CREATED:20240712T125010Z
LAST-MODIFIED:20260201T194813Z
UID:10000219-1745744400-1745748000@rccgrc.org
SUMMARY:Morning Dew
DESCRIPTION:
URL:https://rccgrc.org/event/morning-dew/2025-04-27/
LOCATION:RCCG\, RCCG Restoration Church 5600 Sunnyside Avenue\, Beltsville\, MD\, 20705\, United States
ATTACH;FMTTYPE=image/jpeg:https://rccgrc.org/wp-content/uploads/2024/07/rc-morning-26.jpg.jpeg
END:VEVENT
BEGIN:VEVENT
DTSTART;TZID=UTC:20250420T100000
DTEND;TZID=UTC:20250420T123000
DTSTAMP:20260421T041957
CREATED:20250318T002302Z
LAST-MODIFIED:20250719T231504Z
UID:10002347-1745143200-1745152200@rccgrc.org
SUMMARY:This is Home | We saving a seat just for YOU!
DESCRIPTION:
URL:https://rccgrc.org/event/this-is-home-we-saving-a-seat-just-for-you/2025-04-20/
LOCATION:RCCG\, RCCG Restoration Church 5600 Sunnyside Avenue\, Beltsville\, MD\, 20705\, United States
CATEGORIES:RCCG Event
ATTACH;FMTTYPE=image/jpeg:https://rccgrc.org/wp-content/uploads/2025/03/rc-seat.jpg
ORGANIZER;CN="Abby Daramola":MAILTO:info@rccgrc.org
END:VEVENT
BEGIN:VEVENT
DTSTART;TZID=America/New_York:20250420T090000
DTEND;TZID=America/New_York:20250420T100000
DTSTAMP:20260421T041957
CREATED:20240712T125010Z
LAST-MODIFIED:20260201T194813Z
UID:10000218-1745139600-1745143200@rccgrc.org
SUMMARY:Morning Dew
DESCRIPTION:
URL:https://rccgrc.org/event/morning-dew/2025-04-20/
LOCATION:RCCG\, RCCG Restoration Church 5600 Sunnyside Avenue\, Beltsville\, MD\, 20705\, United States
ATTACH;FMTTYPE=image/jpeg:https://rccgrc.org/wp-content/uploads/2024/07/rc-morning-26.jpg.jpeg
END:VEVENT
BEGIN:VEVENT
DTSTART;TZID=America/New_York:20250419T180000
DTEND;TZID=America/New_York:20250419T190000
DTSTAMP:20260421T041957
CREATED:20240712T130305Z
LAST-MODIFIED:20250421T215309Z
UID:10000078-1745085600-1745089200@rccgrc.org
SUMMARY:Grace Fellowship Monthly Prayers
DESCRIPTION:
URL:https://rccgrc.org/event/grace-fellowship-monthly-prayers/2025-04-19/
LOCATION:RCCG\, RCCG Restoration Church 5600 Sunnyside Avenue\, Beltsville\, MD\, 20705\, United States
ATTACH;FMTTYPE=image/jpeg:https://rccgrc.org/wp-content/uploads/2024/07/grace-fellowship-1.jpeg
END:VEVENT
BEGIN:VEVENT
DTSTART;TZID=UTC:20250419T060000
DTEND;TZID=UTC:20250419T073000
DTSTAMP:20260421T041957
CREATED:20240710T162539Z
LAST-MODIFIED:20250719T161948Z
UID:10000137-1745042400-1745047800@rccgrc.org
SUMMARY:Winning Women Prayers
DESCRIPTION:
URL:https://rccgrc.org/event/winning-women-prayers/2025-04-19/
LOCATION:RCCG\, RCCG Restoration Church 5600 Sunnyside Avenue\, Beltsville\, MD\, 20705\, United States
CATEGORIES:RCCG Event
ATTACH;FMTTYPE=image/png:https://rccgrc.org/wp-content/uploads/2024/07/winning_women.png
END:VEVENT
BEGIN:VEVENT
DTSTART;TZID=UTC:20250413T100000
DTEND;TZID=UTC:20250413T123000
DTSTAMP:20260421T041957
CREATED:20250318T002302Z
LAST-MODIFIED:20250719T231504Z
UID:10002346-1744538400-1744547400@rccgrc.org
SUMMARY:This is Home | We saving a seat just for YOU!
DESCRIPTION:
URL:https://rccgrc.org/event/this-is-home-we-saving-a-seat-just-for-you/2025-04-13/
LOCATION:RCCG\, RCCG Restoration Church 5600 Sunnyside Avenue\, Beltsville\, MD\, 20705\, United States
CATEGORIES:RCCG Event
ATTACH;FMTTYPE=image/jpeg:https://rccgrc.org/wp-content/uploads/2025/03/rc-seat.jpg
ORGANIZER;CN="Abby Daramola":MAILTO:info@rccgrc.org
END:VEVENT
BEGIN:VEVENT
DTSTART;TZID=America/New_York:20250413T090000
DTEND;TZID=America/New_York:20250413T100000
DTSTAMP:20260421T041957
CREATED:20240712T125010Z
LAST-MODIFIED:20260201T194813Z
UID:10000217-1744534800-1744538400@rccgrc.org
SUMMARY:Morning Dew
DESCRIPTION:
URL:https://rccgrc.org/event/morning-dew/2025-04-13/
LOCATION:RCCG\, RCCG Restoration Church 5600 Sunnyside Avenue\, Beltsville\, MD\, 20705\, United States
ATTACH;FMTTYPE=image/jpeg:https://rccgrc.org/wp-content/uploads/2024/07/rc-morning-26.jpg.jpeg
END:VEVENT
BEGIN:VEVENT
DTSTART;TZID=America/New_York:20250412T080000
DTEND;TZID=America/New_York:20250412T090000
DTSTAMP:20260421T041957
CREATED:20240712T125542Z
LAST-MODIFIED:20250719T231303Z
UID:10000396-1744444800-1744448400@rccgrc.org
SUMMARY:Wise Men Prayers
DESCRIPTION:
URL:https://rccgrc.org/event/wise-men-prayers/2025-04-12/
LOCATION:RCCG\, RCCG Restoration Church 5600 Sunnyside Avenue\, Beltsville\, MD\, 20705\, United States
CATEGORIES:RCCG Event
ATTACH;FMTTYPE=image/jpeg:https://rccgrc.org/wp-content/uploads/2024/07/rc-wm.jpg
END:VEVENT
BEGIN:VEVENT
DTSTART;TZID=UTC:20250406T100000
DTEND;TZID=UTC:20250406T123000
DTSTAMP:20260421T041957
CREATED:20250318T002302Z
LAST-MODIFIED:20250719T231504Z
UID:10002345-1743933600-1743942600@rccgrc.org
SUMMARY:This is Home | We saving a seat just for YOU!
DESCRIPTION:
URL:https://rccgrc.org/event/this-is-home-we-saving-a-seat-just-for-you/2025-04-06/
LOCATION:RCCG\, RCCG Restoration Church 5600 Sunnyside Avenue\, Beltsville\, MD\, 20705\, United States
CATEGORIES:RCCG Event
ATTACH;FMTTYPE=image/jpeg:https://rccgrc.org/wp-content/uploads/2025/03/rc-seat.jpg
ORGANIZER;CN="Abby Daramola":MAILTO:info@rccgrc.org
END:VEVENT
BEGIN:VEVENT
DTSTART;TZID=UTC:20250405T110000
DTEND;TZID=UTC:20250405T130000
DTSTAMP:20260421T041957
CREATED:20250329T222046Z
LAST-MODIFIED:20250329T222046Z
UID:10002604-1743850800-1743858000@rccgrc.org
SUMMARY:Excell || Career Compass
DESCRIPTION:
URL:https://rccgrc.org/event/excell-career-compass/
LOCATION:RCCG\, RCCG Restoration Church 5600 Sunnyside Avenue\, Beltsville\, MD\, 20705\, United States
CATEGORIES:RCCG Event
ATTACH;FMTTYPE=image/jpeg:https://rccgrc.org/wp-content/uploads/2025/03/RC-CAREER-COMPASS-EXCEL.jpg
ORGANIZER;CN="Abby Daramola":MAILTO:info@rccgrc.org
END:VEVENT
BEGIN:VEVENT
DTSTART;TZID=America/New_York:20250405T090000
DTEND;TZID=America/New_York:20250405T093000
DTSTAMP:20260421T041957
CREATED:20240712T130707Z
LAST-MODIFIED:20260223T013312Z
UID:10005301-1743843600-1743845400@rccgrc.org
SUMMARY:Recharge; RC Youth and Young Adult
DESCRIPTION:
URL:https://rccgrc.org/event/recharge-rc-youth-and-young-adult/2025-04-05/
LOCATION:RCCG\, RCCG Restoration Church 5600 Sunnyside Avenue\, Beltsville\, MD\, 20705\, United States
ATTACH;FMTTYPE=image/jpeg:https://rccgrc.org/wp-content/uploads/2024/07/RC-RECHARGE-26.jpg.jpeg
END:VEVENT
BEGIN:VEVENT
DTSTART;TZID=UTC:20250330T100000
DTEND;TZID=UTC:20250330T123000
DTSTAMP:20260421T041957
CREATED:20250318T002302Z
LAST-MODIFIED:20250719T231504Z
UID:10002344-1743328800-1743337800@rccgrc.org
SUMMARY:This is Home | We saving a seat just for YOU!
DESCRIPTION:
URL:https://rccgrc.org/event/this-is-home-we-saving-a-seat-just-for-you/2025-03-30/
LOCATION:RCCG\, RCCG Restoration Church 5600 Sunnyside Avenue\, Beltsville\, MD\, 20705\, United States
CATEGORIES:RCCG Event
ATTACH;FMTTYPE=image/jpeg:https://rccgrc.org/wp-content/uploads/2025/03/rc-seat.jpg
ORGANIZER;CN="Abby Daramola":MAILTO:info@rccgrc.org
END:VEVENT
BEGIN:VEVENT
DTSTART;TZID=America/New_York:20250330T090000
DTEND;TZID=America/New_York:20250330T100000
DTSTAMP:20260421T041957
CREATED:20240712T125010Z
LAST-MODIFIED:20260201T194813Z
UID:10000216-1743325200-1743328800@rccgrc.org
SUMMARY:Morning Dew
DESCRIPTION:
URL:https://rccgrc.org/event/morning-dew/2025-03-30/
LOCATION:RCCG\, RCCG Restoration Church 5600 Sunnyside Avenue\, Beltsville\, MD\, 20705\, United States
ATTACH;FMTTYPE=image/jpeg:https://rccgrc.org/wp-content/uploads/2024/07/rc-morning-26.jpg.jpeg
END:VEVENT
BEGIN:VEVENT
DTSTART;TZID=UTC:20250323T100000
DTEND;TZID=UTC:20250323T123000
DTSTAMP:20260421T041957
CREATED:20250318T002302Z
LAST-MODIFIED:20250719T231504Z
UID:10002343-1742724000-1742733000@rccgrc.org
SUMMARY:This is Home | We saving a seat just for YOU!
DESCRIPTION:
URL:https://rccgrc.org/event/this-is-home-we-saving-a-seat-just-for-you/2025-03-23/
LOCATION:RCCG\, RCCG Restoration Church 5600 Sunnyside Avenue\, Beltsville\, MD\, 20705\, United States
CATEGORIES:RCCG Event
ATTACH;FMTTYPE=image/jpeg:https://rccgrc.org/wp-content/uploads/2025/03/rc-seat.jpg
ORGANIZER;CN="Abby Daramola":MAILTO:info@rccgrc.org
END:VEVENT
BEGIN:VEVENT
DTSTART;TZID=America/New_York:20250323T090000
DTEND;TZID=America/New_York:20250323T100000
DTSTAMP:20260421T041957
CREATED:20240712T125010Z
LAST-MODIFIED:20260201T194813Z
UID:10000215-1742720400-1742724000@rccgrc.org
SUMMARY:Morning Dew
DESCRIPTION:
URL:https://rccgrc.org/event/morning-dew/2025-03-23/
LOCATION:RCCG\, RCCG Restoration Church 5600 Sunnyside Avenue\, Beltsville\, MD\, 20705\, United States
ATTACH;FMTTYPE=image/jpeg:https://rccgrc.org/wp-content/uploads/2024/07/rc-morning-26.jpg.jpeg
END:VEVENT
BEGIN:VEVENT
DTSTART;TZID=America/New_York:20250316T090000
DTEND;TZID=America/New_York:20250316T100000
DTSTAMP:20260421T041957
CREATED:20240712T125010Z
LAST-MODIFIED:20260201T194813Z
UID:10000214-1742115600-1742119200@rccgrc.org
SUMMARY:Morning Dew
DESCRIPTION:
URL:https://rccgrc.org/event/morning-dew/2025-03-16/
LOCATION:RCCG\, RCCG Restoration Church 5600 Sunnyside Avenue\, Beltsville\, MD\, 20705\, United States
ATTACH;FMTTYPE=image/jpeg:https://rccgrc.org/wp-content/uploads/2024/07/rc-morning-26.jpg.jpeg
END:VEVENT
BEGIN:VEVENT
DTSTART;TZID=America/New_York:20250315T180000
DTEND;TZID=America/New_York:20250315T190000
DTSTAMP:20260421T041957
CREATED:20240712T130305Z
LAST-MODIFIED:20250421T215309Z
UID:10000077-1742061600-1742065200@rccgrc.org
SUMMARY:Grace Fellowship Monthly Prayers
DESCRIPTION:
URL:https://rccgrc.org/event/grace-fellowship-monthly-prayers/2025-03-15/
LOCATION:RCCG\, RCCG Restoration Church 5600 Sunnyside Avenue\, Beltsville\, MD\, 20705\, United States
ATTACH;FMTTYPE=image/jpeg:https://rccgrc.org/wp-content/uploads/2024/07/grace-fellowship-1.jpeg
END:VEVENT
BEGIN:VEVENT
DTSTART;TZID=UTC:20250315T060000
DTEND;TZID=UTC:20250315T073000
DTSTAMP:20260421T041957
CREATED:20240710T162539Z
LAST-MODIFIED:20250719T161948Z
UID:10000136-1742018400-1742023800@rccgrc.org
SUMMARY:Winning Women Prayers
DESCRIPTION:
URL:https://rccgrc.org/event/winning-women-prayers/2025-03-15/
LOCATION:RCCG\, RCCG Restoration Church 5600 Sunnyside Avenue\, Beltsville\, MD\, 20705\, United States
CATEGORIES:RCCG Event
ATTACH;FMTTYPE=image/png:https://rccgrc.org/wp-content/uploads/2024/07/winning_women.png
END:VEVENT
BEGIN:VEVENT
DTSTART;TZID=America/New_York:20250309T090000
DTEND;TZID=America/New_York:20250309T100000
DTSTAMP:20260421T041957
CREATED:20240712T125010Z
LAST-MODIFIED:20260201T194813Z
UID:10000213-1741510800-1741514400@rccgrc.org
SUMMARY:Morning Dew
DESCRIPTION:
URL:https://rccgrc.org/event/morning-dew/2025-03-09/
LOCATION:RCCG\, RCCG Restoration Church 5600 Sunnyside Avenue\, Beltsville\, MD\, 20705\, United States
ATTACH;FMTTYPE=image/jpeg:https://rccgrc.org/wp-content/uploads/2024/07/rc-morning-26.jpg.jpeg
END:VEVENT
BEGIN:VEVENT
DTSTART;TZID=America/New_York:20250308T080000
DTEND;TZID=America/New_York:20250308T090000
DTSTAMP:20260421T041957
CREATED:20240712T125542Z
LAST-MODIFIED:20250719T231303Z
UID:10000395-1741420800-1741424400@rccgrc.org
SUMMARY:Wise Men Prayers
DESCRIPTION:
URL:https://rccgrc.org/event/wise-men-prayers/2025-03-08/
LOCATION:RCCG\, RCCG Restoration Church 5600 Sunnyside Avenue\, Beltsville\, MD\, 20705\, United States
CATEGORIES:RCCG Event
ATTACH;FMTTYPE=image/jpeg:https://rccgrc.org/wp-content/uploads/2024/07/rc-wm.jpg
END:VEVENT
BEGIN:VEVENT
DTSTART;TZID=America/New_York:20250301T090000
DTEND;TZID=America/New_York:20250301T093000
DTSTAMP:20260421T041957
CREATED:20240712T130707Z
LAST-MODIFIED:20260223T013312Z
UID:10005300-1740819600-1740821400@rccgrc.org
SUMMARY:Recharge; RC Youth and Young Adult
DESCRIPTION:
URL:https://rccgrc.org/event/recharge-rc-youth-and-young-adult/2025-03-01/
LOCATION:RCCG\, RCCG Restoration Church 5600 Sunnyside Avenue\, Beltsville\, MD\, 20705\, United States
ATTACH;FMTTYPE=image/jpeg:https://rccgrc.org/wp-content/uploads/2024/07/RC-RECHARGE-26.jpg.jpeg
END:VEVENT
BEGIN:VEVENT
DTSTART;TZID=UTC:20250223T100000
DTEND;TZID=UTC:20250223T120000
DTSTAMP:20260421T041957
CREATED:20250203T035659Z
LAST-MODIFIED:20250203T035700Z
UID:10001547-1740304800-1740312000@rccgrc.org
SUMMARY:Sunday Service
DESCRIPTION:
URL:https://rccgrc.org/event/sunday-service-2-2/2025-02-23/
LOCATION:RCCG\, RCCG Restoration Church 5600 Sunnyside Avenue\, Beltsville\, MD\, 20705\, United States
CATEGORIES:RCCG Event
ATTACH;FMTTYPE=image/jpeg:https://rccgrc.org/wp-content/uploads/2025/02/February-Sunday-Service-e1738553679148.jpg
ORGANIZER;CN="Abby Daramola":MAILTO:info@rccgrc.org
END:VEVENT
BEGIN:VEVENT
DTSTART;TZID=America/New_York:20250223T090000
DTEND;TZID=America/New_York:20250223T100000
DTSTAMP:20260421T041957
CREATED:20240712T125010Z
LAST-MODIFIED:20260201T194813Z
UID:10000212-1740301200-1740304800@rccgrc.org
SUMMARY:Morning Dew
DESCRIPTION:
URL:https://rccgrc.org/event/morning-dew/2025-02-23/
LOCATION:RCCG\, RCCG Restoration Church 5600 Sunnyside Avenue\, Beltsville\, MD\, 20705\, United States
ATTACH;FMTTYPE=image/jpeg:https://rccgrc.org/wp-content/uploads/2024/07/rc-morning-26.jpg.jpeg
END:VEVENT
BEGIN:VEVENT
DTSTART;TZID=UTC:20250216T100000
DTEND;TZID=UTC:20250216T123000
DTSTAMP:20260421T041957
CREATED:20250203T041412Z
LAST-MODIFIED:20250203T041412Z
UID:10002037-1739700000-1739709000@rccgrc.org
SUMMARY:Love Celebration Service
DESCRIPTION:
URL:https://rccgrc.org/event/love-celebration-service/
LOCATION:RCCG\, RCCG Restoration Church 5600 Sunnyside Avenue\, Beltsville\, MD\, 20705\, United States
CATEGORIES:RCCG Event
ATTACH;FMTTYPE=image/jpeg:https://rccgrc.org/wp-content/uploads/2025/02/Love-Celebration-Service.jpg
ORGANIZER;CN="Abby Daramola":MAILTO:info@rccgrc.org
END:VEVENT
BEGIN:VEVENT
DTSTART;TZID=UTC:20250216T100000
DTEND;TZID=UTC:20250216T120000
DTSTAMP:20260421T041957
CREATED:20250203T035659Z
LAST-MODIFIED:20250203T035700Z
UID:10001546-1739700000-1739707200@rccgrc.org
SUMMARY:Sunday Service
DESCRIPTION:
URL:https://rccgrc.org/event/sunday-service-2-2/2025-02-16/
LOCATION:RCCG\, RCCG Restoration Church 5600 Sunnyside Avenue\, Beltsville\, MD\, 20705\, United States
CATEGORIES:RCCG Event
ATTACH;FMTTYPE=image/jpeg:https://rccgrc.org/wp-content/uploads/2025/02/February-Sunday-Service-e1738553679148.jpg
ORGANIZER;CN="Abby Daramola":MAILTO:info@rccgrc.org
END:VEVENT
BEGIN:VEVENT
DTSTART;TZID=America/New_York:20250216T090000
DTEND;TZID=America/New_York:20250216T100000
DTSTAMP:20260421T041957
CREATED:20240712T125010Z
LAST-MODIFIED:20260201T194813Z
UID:10000211-1739696400-1739700000@rccgrc.org
SUMMARY:Morning Dew
DESCRIPTION:
URL:https://rccgrc.org/event/morning-dew/2025-02-16/
LOCATION:RCCG\, RCCG Restoration Church 5600 Sunnyside Avenue\, Beltsville\, MD\, 20705\, United States
ATTACH;FMTTYPE=image/jpeg:https://rccgrc.org/wp-content/uploads/2024/07/rc-morning-26.jpg.jpeg
END:VEVENT
BEGIN:VEVENT
DTSTART;TZID=America/New_York:20250215T180000
DTEND;TZID=America/New_York:20250215T190000
DTSTAMP:20260421T041957
CREATED:20240712T130305Z
LAST-MODIFIED:20250421T215309Z
UID:10000076-1739642400-1739646000@rccgrc.org
SUMMARY:Grace Fellowship Monthly Prayers
DESCRIPTION:
URL:https://rccgrc.org/event/grace-fellowship-monthly-prayers/2025-02-15/
LOCATION:RCCG\, RCCG Restoration Church 5600 Sunnyside Avenue\, Beltsville\, MD\, 20705\, United States
ATTACH;FMTTYPE=image/jpeg:https://rccgrc.org/wp-content/uploads/2024/07/grace-fellowship-1.jpeg
END:VEVENT
BEGIN:VEVENT
DTSTART;TZID=UTC:20250215T060000
DTEND;TZID=UTC:20250215T073000
DTSTAMP:20260421T041957
CREATED:20240710T162539Z
LAST-MODIFIED:20250719T161948Z
UID:10000135-1739599200-1739604600@rccgrc.org
SUMMARY:Winning Women Prayers
DESCRIPTION:
URL:https://rccgrc.org/event/winning-women-prayers/2025-02-15/
LOCATION:RCCG\, RCCG Restoration Church 5600 Sunnyside Avenue\, Beltsville\, MD\, 20705\, United States
CATEGORIES:RCCG Event
ATTACH;FMTTYPE=image/png:https://rccgrc.org/wp-content/uploads/2024/07/winning_women.png
END:VEVENT
BEGIN:VEVENT
DTSTART;TZID=UTC:20250214T210000
DTEND;TZID=UTC:20250214T233000
DTSTAMP:20260421T041957
CREATED:20250202T230431Z
LAST-MODIFIED:20250203T040426Z
UID:10001509-1739566800-1739575800@rccgrc.org
SUMMARY:Threshing Floor
DESCRIPTION:
URL:https://rccgrc.org/event/threshing-floor/
LOCATION:RCCG\, RCCG Restoration Church 5600 Sunnyside Avenue\, Beltsville\, MD\, 20705\, United States
CATEGORIES:RCCG Event
ATTACH;FMTTYPE=image/jpeg:https://rccgrc.org/wp-content/uploads/2025/02/Threshing-Floor-February.jpg
ORGANIZER;CN="Abby Daramola":MAILTO:info@rccgrc.org
END:VEVENT
BEGIN:VEVENT
DTSTART;TZID=UTC:20250209T100000
DTEND;TZID=UTC:20250209T123000
DTSTAMP:20260421T041957
CREATED:20250203T040908Z
LAST-MODIFIED:20250203T040953Z
UID:10002036-1739095200-1739104200@rccgrc.org
SUMMARY:EXCEL SUNDAY | STRETCH |
DESCRIPTION:
URL:https://rccgrc.org/event/excel-sunday-stretch/
LOCATION:RCCG\, RCCG Restoration Church 5600 Sunnyside Avenue\, Beltsville\, MD\, 20705\, United States
CATEGORIES:RCCG Event
ATTACH;FMTTYPE=image/jpeg:https://rccgrc.org/wp-content/uploads/2025/02/Excel-Sunday-Stretch.jpg
ORGANIZER;CN="Abby Daramola":MAILTO:info@rccgrc.org
END:VEVENT
END:VCALENDAR