BEGIN:VCALENDAR
VERSION:2.0
PRODID:-//RCCG Restoration Church - ECPv6.15.20//NONSGML v1.0//EN
CALSCALE:GREGORIAN
METHOD:PUBLISH
X-ORIGINAL-URL:https://rccgrc.org
X-WR-CALDESC:Events for RCCG Restoration Church
REFRESH-INTERVAL;VALUE=DURATION:PT1H
X-Robots-Tag:noindex
X-PUBLISHED-TTL:PT1H
BEGIN:VTIMEZONE
TZID:UTC
BEGIN:STANDARD
TZOFFSETFROM:+0000
TZOFFSETTO:+0000
TZNAME:UTC
DTSTART:20250101T000000
END:STANDARD
END:VTIMEZONE
BEGIN:VTIMEZONE
TZID:America/New_York
BEGIN:DAYLIGHT
TZOFFSETFROM:-0500
TZOFFSETTO:-0400
TZNAME:EDT
DTSTART:20250309T070000
END:DAYLIGHT
BEGIN:STANDARD
TZOFFSETFROM:-0400
TZOFFSETTO:-0500
TZNAME:EST
DTSTART:20251102T060000
END:STANDARD
BEGIN:DAYLIGHT
TZOFFSETFROM:-0500
TZOFFSETTO:-0400
TZNAME:EDT
DTSTART:20260308T070000
END:DAYLIGHT
BEGIN:STANDARD
TZOFFSETFROM:-0400
TZOFFSETTO:-0500
TZNAME:EST
DTSTART:20261101T060000
END:STANDARD
BEGIN:DAYLIGHT
TZOFFSETFROM:-0500
TZOFFSETTO:-0400
TZNAME:EDT
DTSTART:20270314T070000
END:DAYLIGHT
BEGIN:STANDARD
TZOFFSETFROM:-0400
TZOFFSETTO:-0500
TZNAME:EST
DTSTART:20271107T060000
END:STANDARD
BEGIN:DAYLIGHT
TZOFFSETFROM:-0500
TZOFFSETTO:-0400
TZNAME:EDT
DTSTART:20280312T070000
END:DAYLIGHT
BEGIN:STANDARD
TZOFFSETFROM:-0400
TZOFFSETTO:-0500
TZNAME:EST
DTSTART:20281105T060000
END:STANDARD
END:VTIMEZONE
BEGIN:VEVENT
DTSTART;TZID=UTC:20261118T193000
DTEND;TZID=UTC:20261118T203000
DTSTAMP:20260420T232118
CREATED:20260419T133031Z
LAST-MODIFIED:20260419T133033Z
UID:10005642-1795030200-1795033800@rccgrc.org
SUMMARY:Revealed || Discovering Treasures in God's Word | Wednesdays | 7:30pm
DESCRIPTION:
URL:https://rccgrc.org/event/revealed-4-2/2026-11-18/
LOCATION:RCCG\, RCCG Restoration Church 5600 Sunnyside Avenue\, Beltsville\, MD\, 20705\, United States
CATEGORIES:RCCG Event
ATTACH;FMTTYPE=image/jpeg:https://rccgrc.org/wp-content/uploads/2026/03/revealed_shift-e1776605380651.jpg
ORGANIZER;CN="Abby Daramola":MAILTO:info@rccgrc.org
END:VEVENT
BEGIN:VEVENT
DTSTART;TZID=UTC:20261120T190000
DTEND;TZID=UTC:20261120T200000
DTSTAMP:20260420T232118
CREATED:20260212T184752Z
LAST-MODIFIED:20260212T190150Z
UID:10004682-1795201200-1795204800@rccgrc.org
SUMMARY:RISE Young Adult Bible Study | Third Fridays | 7pm
DESCRIPTION:
URL:https://rccgrc.org/event/rise-young-adult-bible-hangout-third-fridays-7pm/2026-11-20/
LOCATION:Zoom
CATEGORIES:RCCG Event
ATTACH;FMTTYPE=image/jpeg:https://rccgrc.org/wp-content/uploads/2026/02/rc-rise-bible-hangout.jpg.jpeg
ORGANIZER;CN="Abby Daramola":MAILTO:info@rccgrc.org
END:VEVENT
BEGIN:VEVENT
DTSTART;TZID=UTC:20261121T060000
DTEND;TZID=UTC:20261121T073000
DTSTAMP:20260420T232118
CREATED:20240710T162539Z
LAST-MODIFIED:20250719T161948Z
UID:10000156-1795240800-1795246200@rccgrc.org
SUMMARY:Winning Women Prayers
DESCRIPTION:
URL:https://rccgrc.org/event/winning-women-prayers/2026-11-21/
LOCATION:RCCG\, RCCG Restoration Church 5600 Sunnyside Avenue\, Beltsville\, MD\, 20705\, United States
CATEGORIES:RCCG Event
ATTACH;FMTTYPE=image/png:https://rccgrc.org/wp-content/uploads/2024/07/winning_women.png
END:VEVENT
BEGIN:VEVENT
DTSTART;TZID=America/New_York:20261121T180000
DTEND;TZID=America/New_York:20261121T190000
DTSTAMP:20260420T232119
CREATED:20240712T130305Z
LAST-MODIFIED:20250421T215309Z
UID:10000097-1795284000-1795287600@rccgrc.org
SUMMARY:Grace Fellowship Monthly Prayers
DESCRIPTION:
URL:https://rccgrc.org/event/grace-fellowship-monthly-prayers/2026-11-21/
LOCATION:RCCG\, RCCG Restoration Church 5600 Sunnyside Avenue\, Beltsville\, MD\, 20705\, United States
ATTACH;FMTTYPE=image/jpeg:https://rccgrc.org/wp-content/uploads/2024/07/grace-fellowship-1.jpeg
END:VEVENT
BEGIN:VEVENT
DTSTART;TZID=America/New_York:20261122T090000
DTEND;TZID=America/New_York:20261122T100000
DTSTAMP:20260420T232119
CREATED:20240712T125010Z
LAST-MODIFIED:20260201T194813Z
UID:10000282-1795338000-1795341600@rccgrc.org
SUMMARY:Morning Dew
DESCRIPTION:
URL:https://rccgrc.org/event/morning-dew/2026-11-22/
LOCATION:RCCG\, RCCG Restoration Church 5600 Sunnyside Avenue\, Beltsville\, MD\, 20705\, United States
ATTACH;FMTTYPE=image/jpeg:https://rccgrc.org/wp-content/uploads/2024/07/rc-morning-26.jpg.jpeg
END:VEVENT
BEGIN:VEVENT
DTSTART;TZID=UTC:20261122T100000
DTEND;TZID=UTC:20261122T123000
DTSTAMP:20260420T232119
CREATED:20250318T002302Z
LAST-MODIFIED:20250719T231504Z
UID:10002430-1795341600-1795350600@rccgrc.org
SUMMARY:This is Home | We saving a seat just for YOU!
DESCRIPTION:
URL:https://rccgrc.org/event/this-is-home-we-saving-a-seat-just-for-you/2026-11-22/
LOCATION:RCCG\, RCCG Restoration Church 5600 Sunnyside Avenue\, Beltsville\, MD\, 20705\, United States
CATEGORIES:RCCG Event
ATTACH;FMTTYPE=image/jpeg:https://rccgrc.org/wp-content/uploads/2025/03/rc-seat.jpg
ORGANIZER;CN="Abby Daramola":MAILTO:info@rccgrc.org
END:VEVENT
BEGIN:VEVENT
DTSTART;TZID=UTC:20261125T193000
DTEND;TZID=UTC:20261125T203000
DTSTAMP:20260420T232119
CREATED:20260419T133031Z
LAST-MODIFIED:20260419T133033Z
UID:10005643-1795635000-1795638600@rccgrc.org
SUMMARY:Revealed || Discovering Treasures in God's Word | Wednesdays | 7:30pm
DESCRIPTION:
URL:https://rccgrc.org/event/revealed-4-2/2026-11-25/
LOCATION:RCCG\, RCCG Restoration Church 5600 Sunnyside Avenue\, Beltsville\, MD\, 20705\, United States
CATEGORIES:RCCG Event
ATTACH;FMTTYPE=image/jpeg:https://rccgrc.org/wp-content/uploads/2026/03/revealed_shift-e1776605380651.jpg
ORGANIZER;CN="Abby Daramola":MAILTO:info@rccgrc.org
END:VEVENT
BEGIN:VEVENT
DTSTART;TZID=UTC:20261127T193000
DTEND;TZID=UTC:20261127T203000
DTSTAMP:20260420T232119
CREATED:20260223T013851Z
LAST-MODIFIED:20260313T153704Z
UID:10005538-1795807800-1795811400@rccgrc.org
SUMMARY:Teens Bible Study | Emerge | Every other Friday | 7:30pm
DESCRIPTION:
URL:https://rccgrc.org/event/teens-bible-study-emerge-every-other-friday-730pm-2-2/2026-11-27/
LOCATION:Zoom
CATEGORIES:RCCG Event
ATTACH;FMTTYPE=image/jpeg:https://rccgrc.org/wp-content/uploads/2026/02/WhatsApp-Image-2026-02-12-at-7.58.34-AM.jpeg
ORGANIZER;CN="Abby Daramola":MAILTO:info@rccgrc.org
END:VEVENT
BEGIN:VEVENT
DTSTART;TZID=America/New_York:20261129T090000
DTEND;TZID=America/New_York:20261129T100000
DTSTAMP:20260420T232119
CREATED:20240712T125010Z
LAST-MODIFIED:20260201T194813Z
UID:10000283-1795942800-1795946400@rccgrc.org
SUMMARY:Morning Dew
DESCRIPTION:
URL:https://rccgrc.org/event/morning-dew/2026-11-29/
LOCATION:RCCG\, RCCG Restoration Church 5600 Sunnyside Avenue\, Beltsville\, MD\, 20705\, United States
ATTACH;FMTTYPE=image/jpeg:https://rccgrc.org/wp-content/uploads/2024/07/rc-morning-26.jpg.jpeg
END:VEVENT
BEGIN:VEVENT
DTSTART;TZID=UTC:20261129T100000
DTEND;TZID=UTC:20261129T123000
DTSTAMP:20260420T232119
CREATED:20250318T002302Z
LAST-MODIFIED:20250719T231504Z
UID:10002431-1795946400-1795955400@rccgrc.org
SUMMARY:This is Home | We saving a seat just for YOU!
DESCRIPTION:
URL:https://rccgrc.org/event/this-is-home-we-saving-a-seat-just-for-you/2026-11-29/
LOCATION:RCCG\, RCCG Restoration Church 5600 Sunnyside Avenue\, Beltsville\, MD\, 20705\, United States
CATEGORIES:RCCG Event
ATTACH;FMTTYPE=image/jpeg:https://rccgrc.org/wp-content/uploads/2025/03/rc-seat.jpg
ORGANIZER;CN="Abby Daramola":MAILTO:info@rccgrc.org
END:VEVENT
BEGIN:VEVENT
DTSTART;TZID=UTC:20261202T193000
DTEND;TZID=UTC:20261202T203000
DTSTAMP:20260420T232119
CREATED:20260419T133031Z
LAST-MODIFIED:20260419T133033Z
UID:10005644-1796239800-1796243400@rccgrc.org
SUMMARY:Revealed || Discovering Treasures in God's Word | Wednesdays | 7:30pm
DESCRIPTION:
URL:https://rccgrc.org/event/revealed-4-2/2026-12-02/
LOCATION:RCCG\, RCCG Restoration Church 5600 Sunnyside Avenue\, Beltsville\, MD\, 20705\, United States
CATEGORIES:RCCG Event
ATTACH;FMTTYPE=image/jpeg:https://rccgrc.org/wp-content/uploads/2026/03/revealed_shift-e1776605380651.jpg
ORGANIZER;CN="Abby Daramola":MAILTO:info@rccgrc.org
END:VEVENT
BEGIN:VEVENT
DTSTART;TZID=America/New_York:20261205T090000
DTEND;TZID=America/New_York:20261205T093000
DTSTAMP:20260420T232119
CREATED:20240712T130707Z
LAST-MODIFIED:20260223T013312Z
UID:10005321-1796461200-1796463000@rccgrc.org
SUMMARY:Recharge; RC Youth and Young Adult
DESCRIPTION:
URL:https://rccgrc.org/event/recharge-rc-youth-and-young-adult/2026-12-05/
LOCATION:RCCG\, RCCG Restoration Church 5600 Sunnyside Avenue\, Beltsville\, MD\, 20705\, United States
ATTACH;FMTTYPE=image/jpeg:https://rccgrc.org/wp-content/uploads/2024/07/RC-RECHARGE-26.jpg.jpeg
END:VEVENT
BEGIN:VEVENT
DTSTART;TZID=UTC:20261206T100000
DTEND;TZID=UTC:20261206T123000
DTSTAMP:20260420T232119
CREATED:20250318T002302Z
LAST-MODIFIED:20250719T231504Z
UID:10002432-1796551200-1796560200@rccgrc.org
SUMMARY:This is Home | We saving a seat just for YOU!
DESCRIPTION:
URL:https://rccgrc.org/event/this-is-home-we-saving-a-seat-just-for-you/2026-12-06/
LOCATION:RCCG\, RCCG Restoration Church 5600 Sunnyside Avenue\, Beltsville\, MD\, 20705\, United States
CATEGORIES:RCCG Event
ATTACH;FMTTYPE=image/jpeg:https://rccgrc.org/wp-content/uploads/2025/03/rc-seat.jpg
ORGANIZER;CN="Abby Daramola":MAILTO:info@rccgrc.org
END:VEVENT
BEGIN:VEVENT
DTSTART;TZID=UTC:20261209T193000
DTEND;TZID=UTC:20261209T203000
DTSTAMP:20260420T232119
CREATED:20260419T133031Z
LAST-MODIFIED:20260419T133033Z
UID:10005645-1796844600-1796848200@rccgrc.org
SUMMARY:Revealed || Discovering Treasures in God's Word | Wednesdays | 7:30pm
DESCRIPTION:
URL:https://rccgrc.org/event/revealed-4-2/2026-12-09/
LOCATION:RCCG\, RCCG Restoration Church 5600 Sunnyside Avenue\, Beltsville\, MD\, 20705\, United States
CATEGORIES:RCCG Event
ATTACH;FMTTYPE=image/jpeg:https://rccgrc.org/wp-content/uploads/2026/03/revealed_shift-e1776605380651.jpg
ORGANIZER;CN="Abby Daramola":MAILTO:info@rccgrc.org
END:VEVENT
BEGIN:VEVENT
DTSTART;TZID=UTC:20261211T193000
DTEND;TZID=UTC:20261211T203000
DTSTAMP:20260420T232119
CREATED:20260223T013851Z
LAST-MODIFIED:20260313T153704Z
UID:10005451-1797017400-1797021000@rccgrc.org
SUMMARY:Teens Bible Study | Emerge | Every other Friday | 7:30pm
DESCRIPTION:
URL:https://rccgrc.org/event/teens-bible-study-emerge-every-other-friday-730pm-2-2/2026-12-11/
LOCATION:Zoom
CATEGORIES:RCCG Event
ATTACH;FMTTYPE=image/jpeg:https://rccgrc.org/wp-content/uploads/2026/02/WhatsApp-Image-2026-02-12-at-7.58.34-AM.jpeg
ORGANIZER;CN="Abby Daramola":MAILTO:info@rccgrc.org
END:VEVENT
BEGIN:VEVENT
DTSTART;TZID=America/New_York:20261212T080000
DTEND;TZID=America/New_York:20261212T090000
DTSTAMP:20260420T232119
CREATED:20240712T125542Z
LAST-MODIFIED:20250719T231303Z
UID:10000416-1797062400-1797066000@rccgrc.org
SUMMARY:Wise Men Prayers
DESCRIPTION:
URL:https://rccgrc.org/event/wise-men-prayers/2026-12-12/
LOCATION:RCCG\, RCCG Restoration Church 5600 Sunnyside Avenue\, Beltsville\, MD\, 20705\, United States
CATEGORIES:RCCG Event
ATTACH;FMTTYPE=image/jpeg:https://rccgrc.org/wp-content/uploads/2024/07/rc-wm.jpg
END:VEVENT
BEGIN:VEVENT
DTSTART;TZID=America/New_York:20261213T090000
DTEND;TZID=America/New_York:20261213T100000
DTSTAMP:20260420T232119
CREATED:20240712T125010Z
LAST-MODIFIED:20260201T194813Z
UID:10000284-1797152400-1797156000@rccgrc.org
SUMMARY:Morning Dew
DESCRIPTION:
URL:https://rccgrc.org/event/morning-dew/2026-12-13/
LOCATION:RCCG\, RCCG Restoration Church 5600 Sunnyside Avenue\, Beltsville\, MD\, 20705\, United States
ATTACH;FMTTYPE=image/jpeg:https://rccgrc.org/wp-content/uploads/2024/07/rc-morning-26.jpg.jpeg
END:VEVENT
BEGIN:VEVENT
DTSTART;TZID=UTC:20261213T100000
DTEND;TZID=UTC:20261213T123000
DTSTAMP:20260420T232119
CREATED:20250318T002302Z
LAST-MODIFIED:20250719T231504Z
UID:10002433-1797156000-1797165000@rccgrc.org
SUMMARY:This is Home | We saving a seat just for YOU!
DESCRIPTION:
URL:https://rccgrc.org/event/this-is-home-we-saving-a-seat-just-for-you/2026-12-13/
LOCATION:RCCG\, RCCG Restoration Church 5600 Sunnyside Avenue\, Beltsville\, MD\, 20705\, United States
CATEGORIES:RCCG Event
ATTACH;FMTTYPE=image/jpeg:https://rccgrc.org/wp-content/uploads/2025/03/rc-seat.jpg
ORGANIZER;CN="Abby Daramola":MAILTO:info@rccgrc.org
END:VEVENT
BEGIN:VEVENT
DTSTART;TZID=UTC:20261216T193000
DTEND;TZID=UTC:20261216T203000
DTSTAMP:20260420T232119
CREATED:20260419T133031Z
LAST-MODIFIED:20260419T133033Z
UID:10005646-1797449400-1797453000@rccgrc.org
SUMMARY:Revealed || Discovering Treasures in God's Word | Wednesdays | 7:30pm
DESCRIPTION:
URL:https://rccgrc.org/event/revealed-4-2/2026-12-16/
LOCATION:RCCG\, RCCG Restoration Church 5600 Sunnyside Avenue\, Beltsville\, MD\, 20705\, United States
CATEGORIES:RCCG Event
ATTACH;FMTTYPE=image/jpeg:https://rccgrc.org/wp-content/uploads/2026/03/revealed_shift-e1776605380651.jpg
ORGANIZER;CN="Abby Daramola":MAILTO:info@rccgrc.org
END:VEVENT
BEGIN:VEVENT
DTSTART;TZID=UTC:20261218T190000
DTEND;TZID=UTC:20261218T200000
DTSTAMP:20260420T232119
CREATED:20260212T184752Z
LAST-MODIFIED:20260212T190150Z
UID:10004686-1797620400-1797624000@rccgrc.org
SUMMARY:RISE Young Adult Bible Study | Third Fridays | 7pm
DESCRIPTION:
URL:https://rccgrc.org/event/rise-young-adult-bible-hangout-third-fridays-7pm/2026-12-18/
LOCATION:Zoom
CATEGORIES:RCCG Event
ATTACH;FMTTYPE=image/jpeg:https://rccgrc.org/wp-content/uploads/2026/02/rc-rise-bible-hangout.jpg.jpeg
ORGANIZER;CN="Abby Daramola":MAILTO:info@rccgrc.org
END:VEVENT
BEGIN:VEVENT
DTSTART;TZID=UTC:20261219T060000
DTEND;TZID=UTC:20261219T073000
DTSTAMP:20260420T232119
CREATED:20240710T162539Z
LAST-MODIFIED:20250719T161948Z
UID:10000157-1797660000-1797665400@rccgrc.org
SUMMARY:Winning Women Prayers
DESCRIPTION:
URL:https://rccgrc.org/event/winning-women-prayers/2026-12-19/
LOCATION:RCCG\, RCCG Restoration Church 5600 Sunnyside Avenue\, Beltsville\, MD\, 20705\, United States
CATEGORIES:RCCG Event
ATTACH;FMTTYPE=image/png:https://rccgrc.org/wp-content/uploads/2024/07/winning_women.png
END:VEVENT
BEGIN:VEVENT
DTSTART;TZID=America/New_York:20261219T180000
DTEND;TZID=America/New_York:20261219T190000
DTSTAMP:20260420T232119
CREATED:20240712T130305Z
LAST-MODIFIED:20250421T215309Z
UID:10000098-1797703200-1797706800@rccgrc.org
SUMMARY:Grace Fellowship Monthly Prayers
DESCRIPTION:
URL:https://rccgrc.org/event/grace-fellowship-monthly-prayers/2026-12-19/
LOCATION:RCCG\, RCCG Restoration Church 5600 Sunnyside Avenue\, Beltsville\, MD\, 20705\, United States
ATTACH;FMTTYPE=image/jpeg:https://rccgrc.org/wp-content/uploads/2024/07/grace-fellowship-1.jpeg
END:VEVENT
BEGIN:VEVENT
DTSTART;TZID=America/New_York:20261220T090000
DTEND;TZID=America/New_York:20261220T100000
DTSTAMP:20260420T232119
CREATED:20240712T125010Z
LAST-MODIFIED:20260201T194813Z
UID:10000285-1797757200-1797760800@rccgrc.org
SUMMARY:Morning Dew
DESCRIPTION:
URL:https://rccgrc.org/event/morning-dew/2026-12-20/
LOCATION:RCCG\, RCCG Restoration Church 5600 Sunnyside Avenue\, Beltsville\, MD\, 20705\, United States
ATTACH;FMTTYPE=image/jpeg:https://rccgrc.org/wp-content/uploads/2024/07/rc-morning-26.jpg.jpeg
END:VEVENT
BEGIN:VEVENT
DTSTART;TZID=UTC:20261220T100000
DTEND;TZID=UTC:20261220T123000
DTSTAMP:20260420T232119
CREATED:20250318T002302Z
LAST-MODIFIED:20250719T231504Z
UID:10002434-1797760800-1797769800@rccgrc.org
SUMMARY:This is Home | We saving a seat just for YOU!
DESCRIPTION:
URL:https://rccgrc.org/event/this-is-home-we-saving-a-seat-just-for-you/2026-12-20/
LOCATION:RCCG\, RCCG Restoration Church 5600 Sunnyside Avenue\, Beltsville\, MD\, 20705\, United States
CATEGORIES:RCCG Event
ATTACH;FMTTYPE=image/jpeg:https://rccgrc.org/wp-content/uploads/2025/03/rc-seat.jpg
ORGANIZER;CN="Abby Daramola":MAILTO:info@rccgrc.org
END:VEVENT
BEGIN:VEVENT
DTSTART;TZID=UTC:20261223T193000
DTEND;TZID=UTC:20261223T203000
DTSTAMP:20260420T232119
CREATED:20260419T133031Z
LAST-MODIFIED:20260419T133033Z
UID:10005647-1798054200-1798057800@rccgrc.org
SUMMARY:Revealed || Discovering Treasures in God's Word | Wednesdays | 7:30pm
DESCRIPTION:
URL:https://rccgrc.org/event/revealed-4-2/2026-12-23/
LOCATION:RCCG\, RCCG Restoration Church 5600 Sunnyside Avenue\, Beltsville\, MD\, 20705\, United States
CATEGORIES:RCCG Event
ATTACH;FMTTYPE=image/jpeg:https://rccgrc.org/wp-content/uploads/2026/03/revealed_shift-e1776605380651.jpg
ORGANIZER;CN="Abby Daramola":MAILTO:info@rccgrc.org
END:VEVENT
BEGIN:VEVENT
DTSTART;TZID=UTC:20261225T193000
DTEND;TZID=UTC:20261225T203000
DTSTAMP:20260420T232119
CREATED:20260223T013851Z
LAST-MODIFIED:20260313T153704Z
UID:10005539-1798227000-1798230600@rccgrc.org
SUMMARY:Teens Bible Study | Emerge | Every other Friday | 7:30pm
DESCRIPTION:
URL:https://rccgrc.org/event/teens-bible-study-emerge-every-other-friday-730pm-2-2/2026-12-25/
LOCATION:Zoom
CATEGORIES:RCCG Event
ATTACH;FMTTYPE=image/jpeg:https://rccgrc.org/wp-content/uploads/2026/02/WhatsApp-Image-2026-02-12-at-7.58.34-AM.jpeg
ORGANIZER;CN="Abby Daramola":MAILTO:info@rccgrc.org
END:VEVENT
BEGIN:VEVENT
DTSTART;TZID=America/New_York:20261227T090000
DTEND;TZID=America/New_York:20261227T100000
DTSTAMP:20260420T232119
CREATED:20240712T125010Z
LAST-MODIFIED:20260201T194813Z
UID:10000286-1798362000-1798365600@rccgrc.org
SUMMARY:Morning Dew
DESCRIPTION:
URL:https://rccgrc.org/event/morning-dew/2026-12-27/
LOCATION:RCCG\, RCCG Restoration Church 5600 Sunnyside Avenue\, Beltsville\, MD\, 20705\, United States
ATTACH;FMTTYPE=image/jpeg:https://rccgrc.org/wp-content/uploads/2024/07/rc-morning-26.jpg.jpeg
END:VEVENT
BEGIN:VEVENT
DTSTART;TZID=UTC:20261227T100000
DTEND;TZID=UTC:20261227T123000
DTSTAMP:20260420T232119
CREATED:20250318T002302Z
LAST-MODIFIED:20250719T231504Z
UID:10002435-1798365600-1798374600@rccgrc.org
SUMMARY:This is Home | We saving a seat just for YOU!
DESCRIPTION:
URL:https://rccgrc.org/event/this-is-home-we-saving-a-seat-just-for-you/2026-12-27/
LOCATION:RCCG\, RCCG Restoration Church 5600 Sunnyside Avenue\, Beltsville\, MD\, 20705\, United States
CATEGORIES:RCCG Event
ATTACH;FMTTYPE=image/jpeg:https://rccgrc.org/wp-content/uploads/2025/03/rc-seat.jpg
ORGANIZER;CN="Abby Daramola":MAILTO:info@rccgrc.org
END:VEVENT
BEGIN:VEVENT
DTSTART;TZID=UTC:20261230T193000
DTEND;TZID=UTC:20261230T203000
DTSTAMP:20260420T232119
CREATED:20260419T133031Z
LAST-MODIFIED:20260419T133033Z
UID:10005648-1798659000-1798662600@rccgrc.org
SUMMARY:Revealed || Discovering Treasures in God's Word | Wednesdays | 7:30pm
DESCRIPTION:
URL:https://rccgrc.org/event/revealed-4-2/2026-12-30/
LOCATION:RCCG\, RCCG Restoration Church 5600 Sunnyside Avenue\, Beltsville\, MD\, 20705\, United States
CATEGORIES:RCCG Event
ATTACH;FMTTYPE=image/jpeg:https://rccgrc.org/wp-content/uploads/2026/03/revealed_shift-e1776605380651.jpg
ORGANIZER;CN="Abby Daramola":MAILTO:info@rccgrc.org
END:VEVENT
BEGIN:VEVENT
DTSTART;TZID=America/New_York:20270102T090000
DTEND;TZID=America/New_York:20270102T093000
DTSTAMP:20260420T232119
CREATED:20240712T130707Z
LAST-MODIFIED:20260223T013312Z
UID:10005322-1798880400-1798882200@rccgrc.org
SUMMARY:Recharge; RC Youth and Young Adult
DESCRIPTION:
URL:https://rccgrc.org/event/recharge-rc-youth-and-young-adult/2027-01-02/
LOCATION:RCCG\, RCCG Restoration Church 5600 Sunnyside Avenue\, Beltsville\, MD\, 20705\, United States
ATTACH;FMTTYPE=image/jpeg:https://rccgrc.org/wp-content/uploads/2024/07/RC-RECHARGE-26.jpg.jpeg
END:VEVENT
END:VCALENDAR