BEGIN:VCALENDAR
VERSION:2.0
PRODID:-//RCCG Restoration Church - ECPv6.15.20//NONSGML v1.0//EN
CALSCALE:GREGORIAN
METHOD:PUBLISH
X-WR-CALNAME:RCCG Restoration Church
X-ORIGINAL-URL:https://rccgrc.org
X-WR-CALDESC:Events for RCCG Restoration Church
REFRESH-INTERVAL;VALUE=DURATION:PT1H
X-Robots-Tag:noindex
X-PUBLISHED-TTL:PT1H
BEGIN:VTIMEZONE
TZID:America/New_York
BEGIN:DAYLIGHT
TZOFFSETFROM:-0500
TZOFFSETTO:-0400
TZNAME:EDT
DTSTART:20240310T070000
END:DAYLIGHT
BEGIN:STANDARD
TZOFFSETFROM:-0400
TZOFFSETTO:-0500
TZNAME:EST
DTSTART:20241103T060000
END:STANDARD
BEGIN:DAYLIGHT
TZOFFSETFROM:-0500
TZOFFSETTO:-0400
TZNAME:EDT
DTSTART:20250309T070000
END:DAYLIGHT
BEGIN:STANDARD
TZOFFSETFROM:-0400
TZOFFSETTO:-0500
TZNAME:EST
DTSTART:20251102T060000
END:STANDARD
BEGIN:DAYLIGHT
TZOFFSETFROM:-0500
TZOFFSETTO:-0400
TZNAME:EDT
DTSTART:20260308T070000
END:DAYLIGHT
BEGIN:STANDARD
TZOFFSETFROM:-0400
TZOFFSETTO:-0500
TZNAME:EST
DTSTART:20261101T060000
END:STANDARD
END:VTIMEZONE
BEGIN:VTIMEZONE
TZID:UTC
BEGIN:STANDARD
TZOFFSETFROM:+0000
TZOFFSETTO:+0000
TZNAME:UTC
DTSTART:20240101T000000
END:STANDARD
END:VTIMEZONE
BEGIN:VEVENT
DTSTART;TZID=America/New_York:20250705T090000
DTEND;TZID=America/New_York:20250705T093000
DTSTAMP:20260420T232956
CREATED:20240712T130707Z
LAST-MODIFIED:20260223T013312Z
UID:10005304-1751706000-1751707800@rccgrc.org
SUMMARY:Recharge; RC Youth and Young Adult
DESCRIPTION:
URL:https://rccgrc.org/event/recharge-rc-youth-and-young-adult/2025-07-05/
LOCATION:RCCG\, RCCG Restoration Church 5600 Sunnyside Avenue\, Beltsville\, MD\, 20705\, United States
ATTACH;FMTTYPE=image/jpeg:https://rccgrc.org/wp-content/uploads/2024/07/RC-RECHARGE-26.jpg.jpeg
END:VEVENT
BEGIN:VEVENT
DTSTART;TZID=UTC:20250629T100000
DTEND;TZID=UTC:20250629T123000
DTSTAMP:20260420T232956
CREATED:20250318T002302Z
LAST-MODIFIED:20250719T231504Z
UID:10002357-1751191200-1751200200@rccgrc.org
SUMMARY:This is Home | We saving a seat just for YOU!
DESCRIPTION:
URL:https://rccgrc.org/event/this-is-home-we-saving-a-seat-just-for-you/2025-06-29/
LOCATION:RCCG\, RCCG Restoration Church 5600 Sunnyside Avenue\, Beltsville\, MD\, 20705\, United States
CATEGORIES:RCCG Event
ATTACH;FMTTYPE=image/jpeg:https://rccgrc.org/wp-content/uploads/2025/03/rc-seat.jpg
ORGANIZER;CN="Abby Daramola":MAILTO:info@rccgrc.org
END:VEVENT
BEGIN:VEVENT
DTSTART;TZID=America/New_York:20250629T090000
DTEND;TZID=America/New_York:20250629T100000
DTSTAMP:20260420T232956
CREATED:20240712T125010Z
LAST-MODIFIED:20260201T194813Z
UID:10000226-1751187600-1751191200@rccgrc.org
SUMMARY:Morning Dew
DESCRIPTION:
URL:https://rccgrc.org/event/morning-dew/2025-06-29/
LOCATION:RCCG\, RCCG Restoration Church 5600 Sunnyside Avenue\, Beltsville\, MD\, 20705\, United States
ATTACH;FMTTYPE=image/jpeg:https://rccgrc.org/wp-content/uploads/2024/07/rc-morning-26.jpg.jpeg
END:VEVENT
BEGIN:VEVENT
DTSTART;TZID=UTC:20250622T100000
DTEND;TZID=UTC:20250622T123000
DTSTAMP:20260420T232956
CREATED:20250318T002302Z
LAST-MODIFIED:20250719T231504Z
UID:10002356-1750586400-1750595400@rccgrc.org
SUMMARY:This is Home | We saving a seat just for YOU!
DESCRIPTION:
URL:https://rccgrc.org/event/this-is-home-we-saving-a-seat-just-for-you/2025-06-22/
LOCATION:RCCG\, RCCG Restoration Church 5600 Sunnyside Avenue\, Beltsville\, MD\, 20705\, United States
CATEGORIES:RCCG Event
ATTACH;FMTTYPE=image/jpeg:https://rccgrc.org/wp-content/uploads/2025/03/rc-seat.jpg
ORGANIZER;CN="Abby Daramola":MAILTO:info@rccgrc.org
END:VEVENT
BEGIN:VEVENT
DTSTART;TZID=America/New_York:20250622T090000
DTEND;TZID=America/New_York:20250622T100000
DTSTAMP:20260420T232956
CREATED:20240712T125010Z
LAST-MODIFIED:20260201T194813Z
UID:10000225-1750582800-1750586400@rccgrc.org
SUMMARY:Morning Dew
DESCRIPTION:
URL:https://rccgrc.org/event/morning-dew/2025-06-22/
LOCATION:RCCG\, RCCG Restoration Church 5600 Sunnyside Avenue\, Beltsville\, MD\, 20705\, United States
ATTACH;FMTTYPE=image/jpeg:https://rccgrc.org/wp-content/uploads/2024/07/rc-morning-26.jpg.jpeg
END:VEVENT
BEGIN:VEVENT
DTSTART;TZID=America/New_York:20250621T180000
DTEND;TZID=America/New_York:20250621T190000
DTSTAMP:20260420T232956
CREATED:20240712T130305Z
LAST-MODIFIED:20250421T215309Z
UID:10000080-1750528800-1750532400@rccgrc.org
SUMMARY:Grace Fellowship Monthly Prayers
DESCRIPTION:
URL:https://rccgrc.org/event/grace-fellowship-monthly-prayers/2025-06-21/
LOCATION:RCCG\, RCCG Restoration Church 5600 Sunnyside Avenue\, Beltsville\, MD\, 20705\, United States
ATTACH;FMTTYPE=image/jpeg:https://rccgrc.org/wp-content/uploads/2024/07/grace-fellowship-1.jpeg
END:VEVENT
BEGIN:VEVENT
DTSTART;TZID=UTC:20250621T060000
DTEND;TZID=UTC:20250621T073000
DTSTAMP:20260420T232956
CREATED:20240710T162539Z
LAST-MODIFIED:20250719T161948Z
UID:10000139-1750485600-1750491000@rccgrc.org
SUMMARY:Winning Women Prayers
DESCRIPTION:
URL:https://rccgrc.org/event/winning-women-prayers/2025-06-21/
LOCATION:RCCG\, RCCG Restoration Church 5600 Sunnyside Avenue\, Beltsville\, MD\, 20705\, United States
CATEGORIES:RCCG Event
ATTACH;FMTTYPE=image/png:https://rccgrc.org/wp-content/uploads/2024/07/winning_women.png
END:VEVENT
BEGIN:VEVENT
DTSTART;TZID=UTC:20250615T100000
DTEND;TZID=UTC:20250615T123000
DTSTAMP:20260420T232956
CREATED:20250318T002302Z
LAST-MODIFIED:20250719T231504Z
UID:10002355-1749981600-1749990600@rccgrc.org
SUMMARY:This is Home | We saving a seat just for YOU!
DESCRIPTION:
URL:https://rccgrc.org/event/this-is-home-we-saving-a-seat-just-for-you/2025-06-15/
LOCATION:RCCG\, RCCG Restoration Church 5600 Sunnyside Avenue\, Beltsville\, MD\, 20705\, United States
CATEGORIES:RCCG Event
ATTACH;FMTTYPE=image/jpeg:https://rccgrc.org/wp-content/uploads/2025/03/rc-seat.jpg
ORGANIZER;CN="Abby Daramola":MAILTO:info@rccgrc.org
END:VEVENT
BEGIN:VEVENT
DTSTART;TZID=America/New_York:20250615T090000
DTEND;TZID=America/New_York:20250615T100000
DTSTAMP:20260420T232956
CREATED:20240712T125010Z
LAST-MODIFIED:20260201T194813Z
UID:10000224-1749978000-1749981600@rccgrc.org
SUMMARY:Morning Dew
DESCRIPTION:
URL:https://rccgrc.org/event/morning-dew/2025-06-15/
LOCATION:RCCG\, RCCG Restoration Church 5600 Sunnyside Avenue\, Beltsville\, MD\, 20705\, United States
ATTACH;FMTTYPE=image/jpeg:https://rccgrc.org/wp-content/uploads/2024/07/rc-morning-26.jpg.jpeg
END:VEVENT
BEGIN:VEVENT
DTSTART;TZID=America/New_York:20250614T080000
DTEND;TZID=America/New_York:20250614T090000
DTSTAMP:20260420T232956
CREATED:20240712T125542Z
LAST-MODIFIED:20250719T231303Z
UID:10000398-1749888000-1749891600@rccgrc.org
SUMMARY:Wise Men Prayers
DESCRIPTION:
URL:https://rccgrc.org/event/wise-men-prayers/2025-06-14/
LOCATION:RCCG\, RCCG Restoration Church 5600 Sunnyside Avenue\, Beltsville\, MD\, 20705\, United States
CATEGORIES:RCCG Event
ATTACH;FMTTYPE=image/jpeg:https://rccgrc.org/wp-content/uploads/2024/07/rc-wm.jpg
END:VEVENT
BEGIN:VEVENT
DTSTART;TZID=UTC:20250608T100000
DTEND;TZID=UTC:20250608T123000
DTSTAMP:20260420T232956
CREATED:20250318T002302Z
LAST-MODIFIED:20250719T231504Z
UID:10002354-1749376800-1749385800@rccgrc.org
SUMMARY:This is Home | We saving a seat just for YOU!
DESCRIPTION:
URL:https://rccgrc.org/event/this-is-home-we-saving-a-seat-just-for-you/2025-06-08/
LOCATION:RCCG\, RCCG Restoration Church 5600 Sunnyside Avenue\, Beltsville\, MD\, 20705\, United States
CATEGORIES:RCCG Event
ATTACH;FMTTYPE=image/jpeg:https://rccgrc.org/wp-content/uploads/2025/03/rc-seat.jpg
ORGANIZER;CN="Abby Daramola":MAILTO:info@rccgrc.org
END:VEVENT
BEGIN:VEVENT
DTSTART;TZID=America/New_York:20250608T090000
DTEND;TZID=America/New_York:20250608T100000
DTSTAMP:20260420T232956
CREATED:20240712T125010Z
LAST-MODIFIED:20260201T194813Z
UID:10000223-1749373200-1749376800@rccgrc.org
SUMMARY:Morning Dew
DESCRIPTION:
URL:https://rccgrc.org/event/morning-dew/2025-06-08/
LOCATION:RCCG\, RCCG Restoration Church 5600 Sunnyside Avenue\, Beltsville\, MD\, 20705\, United States
ATTACH;FMTTYPE=image/jpeg:https://rccgrc.org/wp-content/uploads/2024/07/rc-morning-26.jpg.jpeg
END:VEVENT
BEGIN:VEVENT
DTSTART;TZID=America/New_York:20250607T090000
DTEND;TZID=America/New_York:20250607T093000
DTSTAMP:20260420T232956
CREATED:20240712T130707Z
LAST-MODIFIED:20260223T013312Z
UID:10005303-1749286800-1749288600@rccgrc.org
SUMMARY:Recharge; RC Youth and Young Adult
DESCRIPTION:
URL:https://rccgrc.org/event/recharge-rc-youth-and-young-adult/2025-06-07/
LOCATION:RCCG\, RCCG Restoration Church 5600 Sunnyside Avenue\, Beltsville\, MD\, 20705\, United States
ATTACH;FMTTYPE=image/jpeg:https://rccgrc.org/wp-content/uploads/2024/07/RC-RECHARGE-26.jpg.jpeg
END:VEVENT
BEGIN:VEVENT
DTSTART;TZID=UTC:20250601T100000
DTEND;TZID=UTC:20250601T123000
DTSTAMP:20260420T232956
CREATED:20250318T002302Z
LAST-MODIFIED:20250719T231504Z
UID:10002353-1748772000-1748781000@rccgrc.org
SUMMARY:This is Home | We saving a seat just for YOU!
DESCRIPTION:
URL:https://rccgrc.org/event/this-is-home-we-saving-a-seat-just-for-you/2025-06-01/
LOCATION:RCCG\, RCCG Restoration Church 5600 Sunnyside Avenue\, Beltsville\, MD\, 20705\, United States
CATEGORIES:RCCG Event
ATTACH;FMTTYPE=image/jpeg:https://rccgrc.org/wp-content/uploads/2025/03/rc-seat.jpg
ORGANIZER;CN="Abby Daramola":MAILTO:info@rccgrc.org
END:VEVENT
BEGIN:VEVENT
DTSTART;TZID=UTC:20250525T100000
DTEND;TZID=UTC:20250525T123000
DTSTAMP:20260420T232956
CREATED:20250318T002302Z
LAST-MODIFIED:20250719T231504Z
UID:10002352-1748167200-1748176200@rccgrc.org
SUMMARY:This is Home | We saving a seat just for YOU!
DESCRIPTION:
URL:https://rccgrc.org/event/this-is-home-we-saving-a-seat-just-for-you/2025-05-25/
LOCATION:RCCG\, RCCG Restoration Church 5600 Sunnyside Avenue\, Beltsville\, MD\, 20705\, United States
CATEGORIES:RCCG Event
ATTACH;FMTTYPE=image/jpeg:https://rccgrc.org/wp-content/uploads/2025/03/rc-seat.jpg
ORGANIZER;CN="Abby Daramola":MAILTO:info@rccgrc.org
END:VEVENT
BEGIN:VEVENT
DTSTART;TZID=America/New_York:20250525T090000
DTEND;TZID=America/New_York:20250525T100000
DTSTAMP:20260420T232956
CREATED:20240712T125010Z
LAST-MODIFIED:20260201T194813Z
UID:10000222-1748163600-1748167200@rccgrc.org
SUMMARY:Morning Dew
DESCRIPTION:
URL:https://rccgrc.org/event/morning-dew/2025-05-25/
LOCATION:RCCG\, RCCG Restoration Church 5600 Sunnyside Avenue\, Beltsville\, MD\, 20705\, United States
ATTACH;FMTTYPE=image/jpeg:https://rccgrc.org/wp-content/uploads/2024/07/rc-morning-26.jpg.jpeg
END:VEVENT
BEGIN:VEVENT
DTSTART;TZID=UTC:20250518T100000
DTEND;TZID=UTC:20250518T123000
DTSTAMP:20260420T232956
CREATED:20250318T002302Z
LAST-MODIFIED:20250719T231504Z
UID:10002351-1747562400-1747571400@rccgrc.org
SUMMARY:This is Home | We saving a seat just for YOU!
DESCRIPTION:
URL:https://rccgrc.org/event/this-is-home-we-saving-a-seat-just-for-you/2025-05-18/
LOCATION:RCCG\, RCCG Restoration Church 5600 Sunnyside Avenue\, Beltsville\, MD\, 20705\, United States
CATEGORIES:RCCG Event
ATTACH;FMTTYPE=image/jpeg:https://rccgrc.org/wp-content/uploads/2025/03/rc-seat.jpg
ORGANIZER;CN="Abby Daramola":MAILTO:info@rccgrc.org
END:VEVENT
BEGIN:VEVENT
DTSTART;TZID=America/New_York:20250518T090000
DTEND;TZID=America/New_York:20250518T100000
DTSTAMP:20260420T232956
CREATED:20240712T125010Z
LAST-MODIFIED:20260201T194813Z
UID:10000221-1747558800-1747562400@rccgrc.org
SUMMARY:Morning Dew
DESCRIPTION:
URL:https://rccgrc.org/event/morning-dew/2025-05-18/
LOCATION:RCCG\, RCCG Restoration Church 5600 Sunnyside Avenue\, Beltsville\, MD\, 20705\, United States
ATTACH;FMTTYPE=image/jpeg:https://rccgrc.org/wp-content/uploads/2024/07/rc-morning-26.jpg.jpeg
END:VEVENT
BEGIN:VEVENT
DTSTART;TZID=America/New_York:20250517T180000
DTEND;TZID=America/New_York:20250517T190000
DTSTAMP:20260420T232956
CREATED:20240712T130305Z
LAST-MODIFIED:20250421T215309Z
UID:10000079-1747504800-1747508400@rccgrc.org
SUMMARY:Grace Fellowship Monthly Prayers
DESCRIPTION:
URL:https://rccgrc.org/event/grace-fellowship-monthly-prayers/2025-05-17/
LOCATION:RCCG\, RCCG Restoration Church 5600 Sunnyside Avenue\, Beltsville\, MD\, 20705\, United States
ATTACH;FMTTYPE=image/jpeg:https://rccgrc.org/wp-content/uploads/2024/07/grace-fellowship-1.jpeg
END:VEVENT
BEGIN:VEVENT
DTSTART;TZID=UTC:20250517T060000
DTEND;TZID=UTC:20250517T073000
DTSTAMP:20260420T232956
CREATED:20240710T162539Z
LAST-MODIFIED:20250719T161948Z
UID:10000138-1747461600-1747467000@rccgrc.org
SUMMARY:Winning Women Prayers
DESCRIPTION:
URL:https://rccgrc.org/event/winning-women-prayers/2025-05-17/
LOCATION:RCCG\, RCCG Restoration Church 5600 Sunnyside Avenue\, Beltsville\, MD\, 20705\, United States
CATEGORIES:RCCG Event
ATTACH;FMTTYPE=image/png:https://rccgrc.org/wp-content/uploads/2024/07/winning_women.png
END:VEVENT
BEGIN:VEVENT
DTSTART;TZID=UTC:20250511T210000
DTEND;TZID=UTC:20250511T213000
DTSTAMP:20260420T232956
CREATED:20250506T011513Z
LAST-MODIFIED:20250506T011513Z
UID:10002647-1746997200-1746999000@rccgrc.org
SUMMARY:7-Day Fasting & Prayer || The Alter of Settlement
DESCRIPTION:
URL:https://rccgrc.org/event/7-day-fasting-prayer-the-alter-of-settlement/2025-05-11/
LOCATION:RCCG\, RCCG Restoration Church 5600 Sunnyside Avenue\, Beltsville\, MD\, 20705\, United States
ATTACH;FMTTYPE=image/jpeg:https://rccgrc.org/wp-content/uploads/2025/05/rc-7-days-aos-1.jpg
ORGANIZER;CN="Abby Daramola":MAILTO:info@rccgrc.org
END:VEVENT
BEGIN:VEVENT
DTSTART;TZID=UTC:20250511T100000
DTEND;TZID=UTC:20250511T123000
DTSTAMP:20260420T232956
CREATED:20250318T002302Z
LAST-MODIFIED:20250719T231504Z
UID:10002350-1746957600-1746966600@rccgrc.org
SUMMARY:This is Home | We saving a seat just for YOU!
DESCRIPTION:
URL:https://rccgrc.org/event/this-is-home-we-saving-a-seat-just-for-you/2025-05-11/
LOCATION:RCCG\, RCCG Restoration Church 5600 Sunnyside Avenue\, Beltsville\, MD\, 20705\, United States
CATEGORIES:RCCG Event
ATTACH;FMTTYPE=image/jpeg:https://rccgrc.org/wp-content/uploads/2025/03/rc-seat.jpg
ORGANIZER;CN="Abby Daramola":MAILTO:info@rccgrc.org
END:VEVENT
BEGIN:VEVENT
DTSTART;TZID=America/New_York:20250511T090000
DTEND;TZID=America/New_York:20250511T100000
DTSTAMP:20260420T232956
CREATED:20240712T125010Z
LAST-MODIFIED:20260201T194813Z
UID:10000220-1746954000-1746957600@rccgrc.org
SUMMARY:Morning Dew
DESCRIPTION:
URL:https://rccgrc.org/event/morning-dew/2025-05-11/
LOCATION:RCCG\, RCCG Restoration Church 5600 Sunnyside Avenue\, Beltsville\, MD\, 20705\, United States
ATTACH;FMTTYPE=image/jpeg:https://rccgrc.org/wp-content/uploads/2024/07/rc-morning-26.jpg.jpeg
END:VEVENT
BEGIN:VEVENT
DTSTART;TZID=UTC:20250510T210000
DTEND;TZID=UTC:20250510T213000
DTSTAMP:20260420T232956
CREATED:20250506T011513Z
LAST-MODIFIED:20250506T011513Z
UID:10002646-1746910800-1746912600@rccgrc.org
SUMMARY:7-Day Fasting & Prayer || The Alter of Settlement
DESCRIPTION:
URL:https://rccgrc.org/event/7-day-fasting-prayer-the-alter-of-settlement/2025-05-10/
LOCATION:RCCG\, RCCG Restoration Church 5600 Sunnyside Avenue\, Beltsville\, MD\, 20705\, United States
ATTACH;FMTTYPE=image/jpeg:https://rccgrc.org/wp-content/uploads/2025/05/rc-7-days-aos-1.jpg
ORGANIZER;CN="Abby Daramola":MAILTO:info@rccgrc.org
END:VEVENT
BEGIN:VEVENT
DTSTART;TZID=America/New_York:20250510T080000
DTEND;TZID=America/New_York:20250510T090000
DTSTAMP:20260420T232956
CREATED:20240712T125542Z
LAST-MODIFIED:20250719T231303Z
UID:10000397-1746864000-1746867600@rccgrc.org
SUMMARY:Wise Men Prayers
DESCRIPTION:
URL:https://rccgrc.org/event/wise-men-prayers/2025-05-10/
LOCATION:RCCG\, RCCG Restoration Church 5600 Sunnyside Avenue\, Beltsville\, MD\, 20705\, United States
CATEGORIES:RCCG Event
ATTACH;FMTTYPE=image/jpeg:https://rccgrc.org/wp-content/uploads/2024/07/rc-wm.jpg
END:VEVENT
BEGIN:VEVENT
DTSTART;TZID=UTC:20250509T210000
DTEND;TZID=UTC:20250509T223000
DTSTAMP:20260420T232956
CREATED:20250506T011513Z
LAST-MODIFIED:20250506T011513Z
UID:10002645-1746824400-1746829800@rccgrc.org
SUMMARY:7-Day Fasting & Prayer || The Alter of Settlement
DESCRIPTION:
URL:https://rccgrc.org/event/7-day-fasting-prayer-the-alter-of-settlement/2025-05-09/
LOCATION:RCCG\, RCCG Restoration Church 5600 Sunnyside Avenue\, Beltsville\, MD\, 20705\, United States
ATTACH;FMTTYPE=image/jpeg:https://rccgrc.org/wp-content/uploads/2025/05/rc-7-days-aos-1.jpg
ORGANIZER;CN="Abby Daramola":MAILTO:info@rccgrc.org
END:VEVENT
BEGIN:VEVENT
DTSTART;TZID=UTC:20250508T210000
DTEND;TZID=UTC:20250508T213000
DTSTAMP:20260420T232956
CREATED:20250506T011513Z
LAST-MODIFIED:20250506T011513Z
UID:10002644-1746738000-1746739800@rccgrc.org
SUMMARY:7-Day Fasting & Prayer || The Alter of Settlement
DESCRIPTION:
URL:https://rccgrc.org/event/7-day-fasting-prayer-the-alter-of-settlement/2025-05-08/
LOCATION:RCCG\, RCCG Restoration Church 5600 Sunnyside Avenue\, Beltsville\, MD\, 20705\, United States
ATTACH;FMTTYPE=image/jpeg:https://rccgrc.org/wp-content/uploads/2025/05/rc-7-days-aos-1.jpg
ORGANIZER;CN="Abby Daramola":MAILTO:info@rccgrc.org
END:VEVENT
BEGIN:VEVENT
DTSTART;TZID=UTC:20250507T210000
DTEND;TZID=UTC:20250507T213000
DTSTAMP:20260420T232956
CREATED:20250506T011513Z
LAST-MODIFIED:20250506T011513Z
UID:10002643-1746651600-1746653400@rccgrc.org
SUMMARY:7-Day Fasting & Prayer || The Alter of Settlement
DESCRIPTION:
URL:https://rccgrc.org/event/7-day-fasting-prayer-the-alter-of-settlement/2025-05-07/2/
LOCATION:RCCG\, RCCG Restoration Church 5600 Sunnyside Avenue\, Beltsville\, MD\, 20705\, United States
ATTACH;FMTTYPE=image/jpeg:https://rccgrc.org/wp-content/uploads/2025/05/rc-7-days-aos-1.jpg
ORGANIZER;CN="Abby Daramola":MAILTO:info@rccgrc.org
END:VEVENT
BEGIN:VEVENT
DTSTART;TZID=UTC:20250507T060000
DTEND;TZID=UTC:20250507T063000
DTSTAMP:20260420T232956
CREATED:20250506T011513Z
LAST-MODIFIED:20250506T011513Z
UID:10002642-1746597600-1746599400@rccgrc.org
SUMMARY:7-Day Fasting & Prayer || The Alter of Settlement
DESCRIPTION:
URL:https://rccgrc.org/event/7-day-fasting-prayer-the-alter-of-settlement/2025-05-07/1/
LOCATION:RCCG\, RCCG Restoration Church 5600 Sunnyside Avenue\, Beltsville\, MD\, 20705\, United States
ATTACH;FMTTYPE=image/jpeg:https://rccgrc.org/wp-content/uploads/2025/05/rc-7-days-aos-1.jpg
ORGANIZER;CN="Abby Daramola":MAILTO:info@rccgrc.org
END:VEVENT
BEGIN:VEVENT
DTSTART;TZID=UTC:20250506T210000
DTEND;TZID=UTC:20250506T213000
DTSTAMP:20260420T232956
CREATED:20250506T011513Z
LAST-MODIFIED:20250506T011513Z
UID:10002641-1746565200-1746567000@rccgrc.org
SUMMARY:7-Day Fasting & Prayer || The Alter of Settlement
DESCRIPTION:
URL:https://rccgrc.org/event/7-day-fasting-prayer-the-alter-of-settlement/2025-05-06/2/
LOCATION:RCCG\, RCCG Restoration Church 5600 Sunnyside Avenue\, Beltsville\, MD\, 20705\, United States
ATTACH;FMTTYPE=image/jpeg:https://rccgrc.org/wp-content/uploads/2025/05/rc-7-days-aos-1.jpg
ORGANIZER;CN="Abby Daramola":MAILTO:info@rccgrc.org
END:VEVENT
END:VCALENDAR